BEGIN:VCALENDAR
VERSION:2.0
PRODID:-//Tanaw Explorer - ECPv6.15.20//NONSGML v1.0//EN
CALSCALE:GREGORIAN
METHOD:PUBLISH
X-ORIGINAL-URL:https://www.tanawexplorer.com
X-WR-CALDESC:Events for Tanaw Explorer
REFRESH-INTERVAL;VALUE=DURATION:PT1H
X-Robots-Tag:noindex
X-PUBLISHED-TTL:PT1H
BEGIN:VTIMEZONE
TZID:UTC
BEGIN:STANDARD
TZOFFSETFROM:+0000
TZOFFSETTO:+0000
TZNAME:UTC
DTSTART:20240101T000000
END:STANDARD
END:VTIMEZONE
BEGIN:VEVENT
DTSTART;VALUE=DATE:20250502
DTEND;VALUE=DATE:20250503
DTSTAMP:20260424T155939
CREATED:20241105T174444Z
LAST-MODIFIED:20250425T125612Z
UID:1480-1746144000-1746230399@www.tanawexplorer.com
SUMMARY:Dingalan Aurora | May 2\, 2025
DESCRIPTION:🏝 DINGALAN AURORA\n🇵🇭 Batanes of the East \n🌟 Event Fee: Php 1\,800/pax – Daytour\n✅ Required Down payment: Php 800/pax\n🚐 Minimum of 11-14pax per Van \nINCLUSIONS:\n✅ Round Trip Van\n✅ Toll Fees\n✅ Registration Fee\n✅ Environmental Fee\n✅ Boat\n✅ Boodle Lunch\n✅ Event Coordinator\n✅ Parking Fee\n✅ Event Bag tags \nEXCLUSIONS\n❌ Shower\n❌ Tricycle to falls (40/head)\n❌ Lifevest Tanawan Falls \nTOUR HIGHLIGHTS:\n○ Dingalan Feeder Port\n○ White Beach\n○ Rock Formation\n○ Mountain View\n○ Lighthouse\n○ Cave\n○ Clift Jumping Spot\n○ Falls\n○ I Love Dingalan Signage \n  \n \n  \nOpen for solo or group joiners. Also available for exclusive tour at your prefer schedule. \nFor full details and the itinerary\, send us a message on our official Facebook page\, Tanaw Explorer\, or email us at info@tanawexplorer.com. \n  \nView Calendar
URL:https://www.tanawexplorer.com/event/dingalan-aurora-may-2-2025/
LOCATION:Dingalan\, Dingalan\, Aurora\, Philippines
CATEGORIES:Daytour,Falls,Hiking
ATTACH;FMTTYPE=image/jpeg:https://www.tanawexplorer.com/wp-content/uploads/2024/06/Dingalan-Aurora.jpg
ORGANIZER;CN="Tanaw Explorer":MAILTO:info@tanawexplorer.com
END:VEVENT
END:VCALENDAR