BEGIN:VCALENDAR
VERSION:2.0
PRODID:-//Tanaw Explorer - ECPv6.15.20//NONSGML v1.0//EN
CALSCALE:GREGORIAN
METHOD:PUBLISH
X-WR-CALNAME:Tanaw Explorer
X-ORIGINAL-URL:https://www.tanawexplorer.com
X-WR-CALDESC:Events for Tanaw Explorer
REFRESH-INTERVAL;VALUE=DURATION:PT1H
X-Robots-Tag:noindex
X-PUBLISHED-TTL:PT1H
BEGIN:VTIMEZONE
TZID:UTC
BEGIN:STANDARD
TZOFFSETFROM:+0000
TZOFFSETTO:+0000
TZNAME:UTC
DTSTART:20240101T000000
END:STANDARD
END:VTIMEZONE
BEGIN:VEVENT
DTSTART;VALUE=DATE:20251207
DTEND;VALUE=DATE:20251208
DTSTAMP:20260424T032050
CREATED:20240820T225415Z
LAST-MODIFIED:20251015T044508Z
UID:1091-1765065600-1765151999@www.tanawexplorer.com
SUMMARY:Espadang Bato x Sipit Ulang | Dec 7\, 2025
DESCRIPTION:⛰ MASCAP TWIN HIKE | ESPADANG BATO + SIPIT ULANG\n↗ 510masl 🇵🇭 Rodriguez\, Rizal 📍 Difficulty: 3/9 \n🌟 Event Fee: Php 1\,300/pax\n✅ Required Down payment: Php 800/pax\n🚐 Minimum of 10-14pax per Van \nINCLUSIONS:\n✅ Round Trip Van\n✅ Registration Fee\n✅ Environmental Fee\n✅ Local Tour guide\n✅ Event Coordinator\n✅ Event Bag tags \nEXCLUSIONS\n❌ Foods\n❌ Shower \nTOUR HIGHLIGHTS:\n○ Espadang Bato\n○ Sipit Ulang\n○ Rock Formation \n  \n \n  \nOpen for solo or group joiners. Also available for exclusive tour at your prefer schedule. \nFor full details and the itinerary\, send us a message on our official Facebook page\, Tanaw Explorer\, or email us at info@tanawexplorer.com. \n  \nView Calendar
URL:https://www.tanawexplorer.com/event/espadang-bato-x-sipit-ulang-dec-7-2025/
LOCATION:Mascap\, Rodriguez\, Rizal\, Philippines
CATEGORIES:Daytour,Hiking
ATTACH;FMTTYPE=image/jpeg:https://www.tanawexplorer.com/wp-content/uploads/2024/06/Espadang-Bato.jpg
ORGANIZER;CN="Tanaw Explorer":MAILTO:info@tanawexplorer.com
END:VEVENT
END:VCALENDAR