BEGIN:VCALENDAR
VERSION:2.0
PRODID:-//Tanaw Explorer - ECPv6.15.20//NONSGML v1.0//EN
CALSCALE:GREGORIAN
METHOD:PUBLISH
X-WR-CALNAME:Tanaw Explorer
X-ORIGINAL-URL:https://www.tanawexplorer.com
X-WR-CALDESC:Events for Tanaw Explorer
REFRESH-INTERVAL;VALUE=DURATION:PT1H
X-Robots-Tag:noindex
X-PUBLISHED-TTL:PT1H
BEGIN:VTIMEZONE
TZID:UTC
BEGIN:STANDARD
TZOFFSETFROM:+0000
TZOFFSETTO:+0000
TZNAME:UTC
DTSTART:20250101T000000
END:STANDARD
END:VTIMEZONE
BEGIN:VEVENT
DTSTART;VALUE=DATE:20260307
DTEND;VALUE=DATE:20260308
DTSTAMP:20260423T221525
CREATED:20250717T160543Z
LAST-MODIFIED:20260226T132523Z
UID:1809-1772841600-1772927999@www.tanawexplorer.com
SUMMARY:Alang Salacsac Tri-Peak/Quadpeak | March 7\, 2026
DESCRIPTION:ALANG SALACSAC TRI-PEAK/QUADPEAK (FORMERLY KAYAPA)\n⛰️ MT TUGEW ↗ 1467masl\n⛰️ MT CABO ↗ 1320masl\n⛰️ MT KABUAN ↗ 1457masl\n⛰️ MT SADJATAN ↗ 1438masl (Optional)\n🇵🇭 Nueva Vizcaya📍 Difficulty: 3/9 \n🌟 Event Fee: Php 2\,300/pax\n✅ Required Down payment: Php 1\,000/pax\n🚐 Minimum of 11-14pax per Van \nINCLUSIONS:\n✅ Round Trip Van\n✅ Registration Fee\n✅ Environmental Fee\n✅ Local Tour guide\n✅ Event Coordinator\n✅ Event Bag tag \nEXCLUSIONS\n❌ Shower\n❌ Food\n❌ QUADPEAK ( Optional – 50/pax)\n❌ Habal (If maulan 50/pax) or\n❌ Jeep Transfer (if hindi makatawid ang Van) \nTOUR HIGHLIGHTS:\n○ Mt Tugew Summit\n○ Mt Cabo Summit\n○ Mt Kabuan Summit\n○ Mt Sadjatan Summit\n○ 360° view\n○ Pine Tree Forest\n○ Rock Formation \n  \n \nOpen for solo or group joiners. Also available for exclusive tour at your prefer schedule. \nFor full details and the itinerary\, send us a message on our official Facebook page\, Tanaw Explorer\, or email us at info@tanawexplorer.com. \n  \nView Calendar
URL:https://www.tanawexplorer.com/event/alang-salacsac-tripeak-quadpeak-march-7-2026/
LOCATION:Kayapa\, Nueva Vizcaya\, Philippines
CATEGORIES:Daytour,Hiking
ATTACH;FMTTYPE=image/jpeg:https://www.tanawexplorer.com/wp-content/uploads/2025/06/Mt-Tugew-Fallen-Tree.jpg
ORGANIZER;CN="Tanaw Explorer":MAILTO:info@tanawexplorer.com
END:VEVENT
END:VCALENDAR