BEGIN:VCALENDAR
VERSION:2.0
PRODID:-//Tanaw Explorer - ECPv6.15.20//NONSGML v1.0//EN
CALSCALE:GREGORIAN
METHOD:PUBLISH
X-WR-CALNAME:Tanaw Explorer
X-ORIGINAL-URL:https://www.tanawexplorer.com
X-WR-CALDESC:Events for Tanaw Explorer
REFRESH-INTERVAL;VALUE=DURATION:PT1H
X-Robots-Tag:noindex
X-PUBLISHED-TTL:PT1H
BEGIN:VTIMEZONE
TZID:UTC
BEGIN:STANDARD
TZOFFSETFROM:+0000
TZOFFSETTO:+0000
TZNAME:UTC
DTSTART:20250101T000000
END:STANDARD
END:VTIMEZONE
BEGIN:VEVENT
DTSTART;TZID=UTC:20260331T000000
DTEND;TZID=UTC:20260403T233000
DTSTAMP:20260423T205636
CREATED:20240704T031847Z
LAST-MODIFIED:20260314T132433Z
UID:899-1774915200-1775259000@www.tanawexplorer.com
SUMMARY:Mt Guiting-Guiting with Cresta De Gallo | March 31 - April 3\, 2026
DESCRIPTION:⛰ MT GUITING-GUITING – REVTRAV (Olango-Tampayan Traverse)\n↗ 2058+masl 🇵🇭 Romblon📍 Difficulty: 9/9 \n🌟 Event Fee: Php 7\,500/pax\n✅ Required Down payment: Php 2000/pax \nINCLUSIONS:\n✅ Guide fee 3:1\n✅ Registration fee\n✅ Climb Permit\n✅ Climb Certificate\n✅ Environmental fee\n✅ Local Guide fee\n✅ Event Bagtag\n✅ Coordinator\n✅ Hosted Meal \nEXCLUSIONS:\n❌ Bus to Batangas port\n❌ Starlite\n❌ Terminal Fee\n❌ Trike from port to kuya Remy house to DENR\n❌ Trike from Olongo to kuya Jayson’s house\n❌ Cresta de Gallo boat rental\n❌ Porter \nTOUR HIGHLIGHTS:\n○ OLANGO RIVER\n○ CAMP 1\, 2\, 3\n○ SUMMIT\n○ 90° TRAIL\n○ PEAK OF DECEPTION\n○ KISS THE WALL\n○ MAYOS PEAK\n○ TAMPAYAN RIVER\n○ CRESTA DE GALLO (OVERNIGHT) \n  \n \n  \nOpen for solo or group joiners. Also available for exclusive tour at your prefer schedule. \nFor full details and the itinerary\, send us a message on our official Facebook page\, Tanaw Explorer\, or email us at info@tanawexplorer.com. \n  \nView Calendar
URL:https://www.tanawexplorer.com/event/mt-guiting-guiting-march-31-april-3-2026/
LOCATION:Mt Guiting-Guiting\, Sibuyan\, Romblon\, Philippines
CATEGORIES:3D2N,Hiking,River
ATTACH;FMTTYPE=image/jpeg:https://www.tanawexplorer.com/wp-content/uploads/2024/06/Mt-Guiting-Guiting-2.jpg
ORGANIZER;CN="Tanaw Explorer":MAILTO:info@tanawexplorer.com
END:VEVENT
BEGIN:VEVENT
DTSTART;VALUE=DATE:20260403
DTEND;VALUE=DATE:20260404
DTSTAMP:20260423T205636
CREATED:20260326T040408Z
LAST-MODIFIED:20260326T040408Z
UID:2594-1775174400-1775260799@www.tanawexplorer.com
SUMMARY:Tarak Ridge | April 3\, 2026
DESCRIPTION:⛰ TARAK RIDGE\n↗ 1130+ masl 🇵🇭 Mariveles\, Bataan 📍 Difficulty: 5/9 \n🌟 Event Fee: Php 1\,600/pax\n✅ Required Down payment: Php 800/pax\n🚐 Minimum of 11-14pax per Van \nINCLUSIONS:\n✅ Round Trip Van\n✅ Toll Fees\n✅ Registration Fee\n✅ Environmental Fee\n✅ Local Tour guide\n✅ Event Coordinator\n✅ Event Bag tags \nTOUR HIGHLIGHTS:\n○ Summit\n○ Ridge\n○ Campsite\n○ Papaya River\n○ Grassland \n  \n \n  \nOpen for solo or group joiners. Also available for exclusive tour at your prefer schedule. \nFor full details and the itinerary\, send us a message on our official Facebook page\, Tanaw Explorer\, or email us at info@tanawexplorer.com. \n  \nView Calendar
URL:https://www.tanawexplorer.com/event/tarak-ridge-april-3-2026/
LOCATION:Tarak Ridge\, Bataan\, Mariveles
CATEGORIES:Daytour,Hiking
ATTACH;FMTTYPE=image/jpeg:https://www.tanawexplorer.com/wp-content/uploads/2024/06/Tarak-Ridge.jpg
ORGANIZER;CN="Tanaw Explorer":MAILTO:info@tanawexplorer.com
END:VEVENT
BEGIN:VEVENT
DTSTART;VALUE=DATE:20260403
DTEND;VALUE=DATE:20260404
DTSTAMP:20260423T205636
CREATED:20240703T023712Z
LAST-MODIFIED:20260314T132511Z
UID:855-1775174400-1775260799@www.tanawexplorer.com
SUMMARY:Mt Daraitan | April 3\, 2026
DESCRIPTION:⛰ MT DARAITAN x HEART PEAK x TINIPAK RIVER x CAVE\n↗ 739masl 🇵🇭 Tanay Rizal 📍 Difficulty: 4/9 \n🌟 Event Fee: Php 1\,500/pax\n✅ Required Down payment: Php 800/pax\n🚐 Minimum of 11-14pax per Van \nINCLUSIONS:\n✅ Round Trip Van\n✅ Registration Fee\n✅ Environmental Fee\n✅ Local Tour guide\n✅ Trycycle fee to jump off\n✅ Boat transfer fee\n✅ Event Coordinator\n✅ Event Bag tags \nEXCLUSIONS\n❌ Foods\n❌ Shower\n❌ Rental of headlamp\n❌ Optional Traverse to Tinipak River 100/head \nTOUR HIGHLIGHTS:\n○ Summit\n○ Heart Peak\n○ Tinipak River & Rock Formations\n○ Cave & Spring (If Open) \n  \n \n  \nOpen for solo or group joiners. Also available for exclusive tour at your prefer schedule. \nFor full details and the itinerary\, send us a message on our official Facebook page\, Tanaw Explorer\, or email us at info@tanawexplorer.com. \n  \nView Calendar
URL:https://www.tanawexplorer.com/event/mt-daraitan-april-3-2026/
LOCATION:Mt Daraitan\, Tanay\, Rizal\, Philippines
CATEGORIES:Daytour,Hiking,River
ATTACH;FMTTYPE=image/jpeg:https://www.tanawexplorer.com/wp-content/uploads/2024/06/Mt-Daraitan.jpg
ORGANIZER;CN="Tanaw Explorer":MAILTO:info@tanawexplorer.com
END:VEVENT
END:VCALENDAR