BEGIN:VCALENDAR
VERSION:2.0
PRODID:-//Tanaw Explorer - ECPv6.15.20//NONSGML v1.0//EN
CALSCALE:GREGORIAN
METHOD:PUBLISH
X-WR-CALNAME:Tanaw Explorer
X-ORIGINAL-URL:https://www.tanawexplorer.com
X-WR-CALDESC:Events for Tanaw Explorer
REFRESH-INTERVAL;VALUE=DURATION:PT1H
X-Robots-Tag:noindex
X-PUBLISHED-TTL:PT1H
BEGIN:VTIMEZONE
TZID:UTC
BEGIN:STANDARD
TZOFFSETFROM:+0000
TZOFFSETTO:+0000
TZNAME:UTC
DTSTART:20250101T000000
END:STANDARD
END:VTIMEZONE
BEGIN:VEVENT
DTSTART;VALUE=DATE:20260524
DTEND;VALUE=DATE:20260525
DTSTAMP:20260423T221642
CREATED:20260414T114627Z
LAST-MODIFIED:20260414T132924Z
UID:2643-1779580800-1779667199@www.tanawexplorer.com
SUMMARY:Balik Eskwela 2026 Outreach Program + Limliwa Beach | May 24\, 2026
DESCRIPTION:BALIK ESKWELA 2026 OUTREACH PROGRAM + LIMLIWA BEACH\n🇵🇭 Cawag/San Felipe\, Zambales \n🌟 Event Fee: Php 2\,500/pax\n✅ Required Down payment: Php 1\,000/pax\n🚐 Minimum of 11-14pax per Van \nINCLUSION\n✅ Round Trip Van\n✅ Toll Fees\n✅ Registration Fee\n✅ Environmental Fee\n✅ Event Coordinator\n✅ Parking Fee\n✅ Event Bag tags\n✅ Boodle Lunch \nTOUR HIGHLIGHTS:\n○ Outreach Activity\n○ Beach Activity \nSAMPLE ITINERARY \nDay 0\n11:00pm – 1:00am: Pickup \nDay 1\n5:00am: Breakfast\n6:00am: ETA Sitio Cawag\, prepare school supplies & grocery\n7:00am: Outreach activity\n10:00am: End of outreach\, travel to San Felipe\, Zambales\n11:00am: Limliwa Beach\n12:00nn: Boodle Lunch\n1:00pm: Swimming\, free time\, activity\n5:30pm: Pack up\, shower\n7:00pm: ETD to Manila\n10:00pm: ETA Manila \nTHINGS TO BRING:\n》I.D\n》Bottle water\n》Snacks or other food\n》First Aid Kit\n》Cap/Sunblock\n》Garbage Bag\n》Poncho/Rain Gear\n》Arm sleeve/ Long sleeve\n》Extra Clothes\n》Swim wear\n》Extra Money \nNOTE:\n✅ Deposit for slot reservation\n✅ Please practice LNT – Leave No Trace Policy\n✅ Enjoy the hike\, meet new friends\, socialize\, and appreciate God’s amazing creation.\n✅ Profit will be used to buy school supplies and grocery and be given to the kindergarten\, elementary students of Sitio Cawag.\n✅ We will request assistance from all joiners to this event.\n✅ We are open for donations of school supplies\, grocery and even fund to buy supplies \nOnline registration: \nMode of payment for slot reservation:\n• Account Name: Christian Manalili\n• BPI: 3199-3546-46\n• GCash: 09129084842\n• Maya: 09129084842 \n  \nPREVIOUS OUTREACH PROGRAM \nBalik Eskwela 2024\n \nBalik Eskwela 2025\n \nUpcoming schedule
URL:https://www.tanawexplorer.com/event/balik-eskwela-outreach-program-limliwa-beach-2026-may-24-2026/
LOCATION:Cawag Hexa\, Subic\, Zambales\, Philippines
CATEGORIES:Daytour,Hiking
ATTACH;FMTTYPE=image/jpeg:https://www.tanawexplorer.com/wp-content/uploads/2026/04/Balik-Eskwela-Event-Website-Cover-2026-V2.jpg
ORGANIZER;CN="Tanaw Explorer":MAILTO:info@tanawexplorer.com
END:VEVENT
END:VCALENDAR