BEGIN:VCALENDAR
VERSION:2.0
PRODID:-//Tanaw Explorer - ECPv6.15.20//NONSGML v1.0//EN
CALSCALE:GREGORIAN
METHOD:PUBLISH
X-ORIGINAL-URL:https://www.tanawexplorer.com
X-WR-CALDESC:Events for Tanaw Explorer
REFRESH-INTERVAL;VALUE=DURATION:PT1H
X-Robots-Tag:noindex
X-PUBLISHED-TTL:PT1H
BEGIN:VTIMEZONE
TZID:UTC
BEGIN:STANDARD
TZOFFSETFROM:+0000
TZOFFSETTO:+0000
TZNAME:UTC
DTSTART:20250101T000000
END:STANDARD
END:VTIMEZONE
BEGIN:VEVENT
DTSTART;TZID=UTC:20260501T000000
DTEND;TZID=UTC:20260503T233000
DTSTAMP:20260423T224048
CREATED:20251226T171748Z
LAST-MODIFIED:20260405T122220Z
UID:2456-1777593600-1777851000@www.tanawexplorer.com
SUMMARY:Sagada Tour 3D2N | May 1-3\, 2026
DESCRIPTION:⛰ SAGADA 3D2N\n🇵🇭 Mountain Province \n🌟 Event Fee: Php 4\,500/pax\n✅ Required Down payment: Php 1\,000/pax\n🚐 Minimum of 12-14pax per Van  \nINCLUSIONS:\n✅ Roundtrip Van\n✅ Accomodation Room w/ Free Wifi\n✅ Unli Brewed Coffee\n✅ Toll Fee\n✅ Coordinator\n✅ Event Bagtag \nEXCLUSIONS:\n❌ Foods\n❌ All entrance\n❌ Guide fee\n❌ Shuttle service\n❌ Hands-on pottery making\n❌ Rock Climbing Php500/pax (unli climb) \nTOUR HIGHLIGHTS:\n○ BANAUE ARC\n○ BANAUE RICE TERRACES\n○ SUMAGUING CAVE / BALANGAGAN CAVE\n○ ST MARY’S CHURCH\n○ ECHO VALLEY\n○ HANGING COFFINS\n○ POTTERY HOUSE\n○ MARLBORO HILLS\n○ BLUE SOIL HILLS\n○ LEMON PIE HOUSE\n○ SAGADA BREW\n○ BUMOK-OD FALLS\n○ HIGHEST POINT ATOK BENGUET\n○ STRAWBERRY FARM\n○ PASALUBONG/SOUVENIERS \n  \n \nOpen for solo or group joiners. Also available for exclusive tour at your prefer schedule. \nFor full details and the itinerary\, send us a message on our official Facebook page\, Tanaw Explorer\, or email us at info@tanawexplorer.com. \n  \nView Calendar
URL:https://www.tanawexplorer.com/event/sagada-tour-may-1-3-2026/
LOCATION:Sagada\, Sagada\, Mountain Province\, Philippines
CATEGORIES:3D2N,City Tour,Falls,Hiking
ATTACH;FMTTYPE=image/jpeg:https://www.tanawexplorer.com/wp-content/uploads/2024/10/Sagada.jpg
ORGANIZER;CN="Tanaw Explorer":MAILTO:info@tanawexplorer.com
END:VEVENT
BEGIN:VEVENT
DTSTART;TZID=UTC:20261201T000000
DTEND;TZID=UTC:20261206T233000
DTSTAMP:20260423T224048
CREATED:20260407T081829Z
LAST-MODIFIED:20260419T050305Z
UID:2494-1796083200-1796599800@www.tanawexplorer.com
SUMMARY:Mt Yushan / Jade Mountain - Taiwan Tour | December 1-6\, 2026
DESCRIPTION:⛰️ MT YUSHAN / JADE MOUNTAIN 2D1N w/ TAIWAN TOUR\n↗ 3952masl 🇹🇼 Taiwan \n🌟 Event Fee: Php 13\,500/pax\n✅ Required Down payment: Php 3\,000/pax \nINCLUSIONS:\n✅ Permit fee\n✅ Registration Fee\n✅ Mt Yushan Tour Guide/Coordinator\n✅ Hotel Accommodation before the hike\n✅ Mountain Lodge Accommodation\n✅ Winter Sleeping Bag\n✅ Roundtrip transport Taichung City to Yushan National Park\n✅ Roundtrip transport Tataka Saddle to Yushan\n✅ Food: Day 1 Dinner\, Day 2 Bfast/Brunch\n✅ Bagtag\n✅ Ref Magnet \nEXCLUSIONS\n❌ Roundtrip Airfare Manila – Taiwan\n❌ Travel Tax\n❌ Pocket Money\n❌ Taiwan City Tour expenses\n❌ Coordinators fee for Taiwan tour – optional (1\,000/pax) \nTOUR HIGHLIGHTS:\n○ Mt Yushan/Jade Mountain\n○ Taipei City Tourist spot\n○ Taichung City Tourist Spot\n○ Sun Moon Lake \n \n  \nOpen for solo or group joiners. Also available for exclusive tour at your prefer schedule. \nFor full details and the itinerary\, send us a message on our official Facebook page\, Tanaw Explorer\, or email us at info@tanawexplorer.com. \n  \nView Calendar
URL:https://www.tanawexplorer.com/event/mt-yushan-hike-and-taiwan-tour/
LOCATION:Taiwan\, Taiwan
CATEGORIES:3D2N,Hiking
ATTACH;FMTTYPE=image/jpeg:https://www.tanawexplorer.com/wp-content/uploads/2026/04/Mt-Yushan-summit-1.jpg
ORGANIZER;CN="Tanaw Explorer":MAILTO:info@tanawexplorer.com
END:VEVENT
END:VCALENDAR