BEGIN:VCALENDAR
VERSION:2.0
PRODID:-//Tanaw Explorer - ECPv6.15.20//NONSGML v1.0//EN
CALSCALE:GREGORIAN
METHOD:PUBLISH
X-WR-CALNAME:Tanaw Explorer
X-ORIGINAL-URL:https://www.tanawexplorer.com
X-WR-CALDESC:Events for Tanaw Explorer
REFRESH-INTERVAL;VALUE=DURATION:PT1H
X-Robots-Tag:noindex
X-PUBLISHED-TTL:PT1H
BEGIN:VTIMEZONE
TZID:UTC
BEGIN:STANDARD
TZOFFSETFROM:+0000
TZOFFSETTO:+0000
TZNAME:UTC
DTSTART:20240101T000000
END:STANDARD
END:VTIMEZONE
BEGIN:VEVENT
DTSTART;VALUE=DATE:20250202
DTEND;VALUE=DATE:20250203
DTSTAMP:20260423T222945
CREATED:20250101T172008Z
LAST-MODIFIED:20250101T172016Z
UID:1551-1738454400-1738540799@www.tanawexplorer.com
SUMMARY:Outreach Hike | February 2\, 2025
DESCRIPTION:OUTREACH HIKE\n⛰ MT PAMITINAN ↗ 426masl 📍 Difficulty: 3/9\n🇵🇭 Rodriguez Rizal Rizal \n🌟 Event Fee: Php 1\,300/pax\n✅ Required Down payment: Php 500/pax \nINCLUSIONS:\n✅ Round Trip Van\n✅ Registration Fee\n✅ Environmental Fee\n✅ Local Tour guide\n✅ Event Coordinator\n✅ Event Bag tags\n✅ Ref Magnet \nEXCLUSIONS\n❌ Foods\n❌ Shower \nTOUR HIGHLIGHTS:\n○ Mt Pamitinan\n○ Outreach Activity \nSAMPLE ITENERARY:\n1:00am – 2:00am: Pick-up\n2:00am: Travel to Jump-Off\n3:30am: ETA Jump Off\n4:00am: Breakfast\n4:30am: Registration\, secure guid\n5:00am: Start trek to Mt Pamitinan\n6:00am: Summit\, photo ops\n8:00am: Start descend\n10:30am: Preparation for Outreach Activity\n11:00am: Outreach Activity\n1:00pm: Lunch\n2:00am: Pack up and shower\n3:00pm: ETA Manila\n4:00pm: Start activity program\n5:00pm: ETD Manila\n**We will update the outreach program. \nTHINGS TO BRING:\n》I.D\n》Facemask\n》2-3 liters of water\n》Head Lamp\n》Gloves\n》Pack Lunch (Optional)\n》Trail food\n》First Aid Kit\n》Cap/Sunblock\n》Garbage Bag\n》Poncho/Rain Gear\n》Arm sleeve/ Long sleeve\n》Extra Clothes \nNOTE:\n✅ Deposit for slot reservation\n✅ Please practice LNT – Leave No Trace Policy\n✅ Enjoy the hike\, meet new friends\, socialize\, and appreciate God’s amazing creation.\n✅ All profit will be use to buy school supplies\, gifts and foods and be given to the community of Sitio Wawa\, Sto Niño\, Rodriguez Rizal\n✅ We will request assistance from all joiners to this event. \n  \nMode of payment for slot reservation:\n• Account Name: Christian Manalili\n• BPI: 3199-3546-46\n• GCash: 09129084842
URL:https://www.tanawexplorer.com/event/outreach-hike-mt-pamitinan-february-2-2025/
LOCATION:Outreach Hike\, Rodriguez\, Rizal\, Philippines
CATEGORIES:Daytour,Hiking,Outreach Hike
ATTACH;FMTTYPE=image/jpeg:https://www.tanawexplorer.com/wp-content/uploads/2025/01/Outreach-Hike-Feb-2-2025.jpg
END:VEVENT
END:VCALENDAR