BEGIN:VCALENDAR
VERSION:2.0
PRODID:-//Tanaw Explorer - ECPv6.15.20//NONSGML v1.0//EN
CALSCALE:GREGORIAN
METHOD:PUBLISH
X-ORIGINAL-URL:https://www.tanawexplorer.com
X-WR-CALDESC:Events for Tanaw Explorer
REFRESH-INTERVAL;VALUE=DURATION:PT1H
X-Robots-Tag:noindex
X-PUBLISHED-TTL:PT1H
BEGIN:VTIMEZONE
TZID:UTC
BEGIN:STANDARD
TZOFFSETFROM:+0000
TZOFFSETTO:+0000
TZNAME:UTC
DTSTART:20240101T000000
END:STANDARD
END:VTIMEZONE
BEGIN:VEVENT
DTSTART;VALUE=DATE:20260418
DTEND;VALUE=DATE:20260419
DTSTAMP:20260423T224114
CREATED:20260313T141643Z
LAST-MODIFIED:20260419T131433Z
UID:2566-1776470400-1776556799@www.tanawexplorer.com
SUMMARY:Goatcliff Ferrata & Rappelling | April 18\, 2026
DESCRIPTION:⛰ GOATCLIFF FERRATA & RAPELLING x MT OLIS x NORTHERN BLOSSOM\n🇵🇭 Atok Benguet \n🌟 Event Fee: Php 3\,500/pax\n✅ Required Down payment: Php 1\,000/pax\n🚐 Minimum of 11-14pax per Van \nINCLUSIONS:\n✅ Round Trip Van\n✅ Registration Fee\n✅ Environmental Fee\n✅ Local Tour guide\n✅ Event Coordinator\n✅ Event Bag tags\n✅ 3 rounds Rappelling Goatcliff\n✅ Unlimited rounds of Via Ferrata\n✅ Coffee and bread (Northern blossom) \nEXCLUSIONS\n❌ Shower\n❌ Food \nTOUR HIGHLIGHTS:\n○ Northern Blossom Flower Farm (Closed every Sunday) Optional\n○ Mt Olis (Closed every Sunday) Optional\n○ Rappelling goatcliff\n○ Unlimited Ferrata \n  \n \n  \nOpen for solo or group joiners. Also available for exclusive tour at your prefer schedule. \nFor full details and the itinerary\, send us a message on our official Facebook page\, Tanaw Explorer\, or email us at info@tanawexplorer.com. \n  \nView Calendar
URL:https://www.tanawexplorer.com/event/goatcliff-ferrata-rappelling-april-18-2026/
LOCATION:Goatcliff\, Atok\, Benguet
CATEGORIES:Daytour,Hiking,River
ATTACH;FMTTYPE=image/jpeg:https://www.tanawexplorer.com/wp-content/uploads/2026/03/Goatcliff-Category.jpg
ORGANIZER;CN="Tanaw Explorer":MAILTO:info@tanawexplorer.com
END:VEVENT
BEGIN:VEVENT
DTSTART;VALUE=DATE:20260403
DTEND;VALUE=DATE:20260404
DTSTAMP:20260423T224114
CREATED:20240703T023712Z
LAST-MODIFIED:20260314T132511Z
UID:855-1775174400-1775260799@www.tanawexplorer.com
SUMMARY:Mt Daraitan | April 3\, 2026
DESCRIPTION:⛰ MT DARAITAN x HEART PEAK x TINIPAK RIVER x CAVE\n↗ 739masl 🇵🇭 Tanay Rizal 📍 Difficulty: 4/9 \n🌟 Event Fee: Php 1\,500/pax\n✅ Required Down payment: Php 800/pax\n🚐 Minimum of 11-14pax per Van \nINCLUSIONS:\n✅ Round Trip Van\n✅ Registration Fee\n✅ Environmental Fee\n✅ Local Tour guide\n✅ Trycycle fee to jump off\n✅ Boat transfer fee\n✅ Event Coordinator\n✅ Event Bag tags \nEXCLUSIONS\n❌ Foods\n❌ Shower\n❌ Rental of headlamp\n❌ Optional Traverse to Tinipak River 100/head \nTOUR HIGHLIGHTS:\n○ Summit\n○ Heart Peak\n○ Tinipak River & Rock Formations\n○ Cave & Spring (If Open) \n  \n \n  \nOpen for solo or group joiners. Also available for exclusive tour at your prefer schedule. \nFor full details and the itinerary\, send us a message on our official Facebook page\, Tanaw Explorer\, or email us at info@tanawexplorer.com. \n  \nView Calendar
URL:https://www.tanawexplorer.com/event/mt-daraitan-april-3-2026/
LOCATION:Mt Daraitan\, Tanay\, Rizal\, Philippines
CATEGORIES:Daytour,Hiking,River
ATTACH;FMTTYPE=image/jpeg:https://www.tanawexplorer.com/wp-content/uploads/2024/06/Mt-Daraitan.jpg
ORGANIZER;CN="Tanaw Explorer":MAILTO:info@tanawexplorer.com
END:VEVENT
BEGIN:VEVENT
DTSTART;TZID=UTC:20260331T000000
DTEND;TZID=UTC:20260403T233000
DTSTAMP:20260423T224114
CREATED:20240704T031847Z
LAST-MODIFIED:20260314T132433Z
UID:899-1774915200-1775259000@www.tanawexplorer.com
SUMMARY:Mt Guiting-Guiting with Cresta De Gallo | March 31 - April 3\, 2026
DESCRIPTION:⛰ MT GUITING-GUITING – REVTRAV (Olango-Tampayan Traverse)\n↗ 2058+masl 🇵🇭 Romblon📍 Difficulty: 9/9 \n🌟 Event Fee: Php 7\,500/pax\n✅ Required Down payment: Php 2000/pax \nINCLUSIONS:\n✅ Guide fee 3:1\n✅ Registration fee\n✅ Climb Permit\n✅ Climb Certificate\n✅ Environmental fee\n✅ Local Guide fee\n✅ Event Bagtag\n✅ Coordinator\n✅ Hosted Meal \nEXCLUSIONS:\n❌ Bus to Batangas port\n❌ Starlite\n❌ Terminal Fee\n❌ Trike from port to kuya Remy house to DENR\n❌ Trike from Olongo to kuya Jayson’s house\n❌ Cresta de Gallo boat rental\n❌ Porter \nTOUR HIGHLIGHTS:\n○ OLANGO RIVER\n○ CAMP 1\, 2\, 3\n○ SUMMIT\n○ 90° TRAIL\n○ PEAK OF DECEPTION\n○ KISS THE WALL\n○ MAYOS PEAK\n○ TAMPAYAN RIVER\n○ CRESTA DE GALLO (OVERNIGHT) \n  \n \n  \nOpen for solo or group joiners. Also available for exclusive tour at your prefer schedule. \nFor full details and the itinerary\, send us a message on our official Facebook page\, Tanaw Explorer\, or email us at info@tanawexplorer.com. \n  \nView Calendar
URL:https://www.tanawexplorer.com/event/mt-guiting-guiting-march-31-april-3-2026/
LOCATION:Mt Guiting-Guiting\, Sibuyan\, Romblon\, Philippines
CATEGORIES:3D2N,Hiking,River
ATTACH;FMTTYPE=image/jpeg:https://www.tanawexplorer.com/wp-content/uploads/2024/06/Mt-Guiting-Guiting-2.jpg
ORGANIZER;CN="Tanaw Explorer":MAILTO:info@tanawexplorer.com
END:VEVENT
BEGIN:VEVENT
DTSTART;VALUE=DATE:20260329
DTEND;VALUE=DATE:20260330
DTSTAMP:20260423T224114
CREATED:20250815T114727Z
LAST-MODIFIED:20260314T132144Z
UID:2053-1774742400-1774828799@www.tanawexplorer.com
SUMMARY:Mt Mariglem + River | March 29\, 2026
DESCRIPTION:⛰ MT MARIGLEM + RIVER\n↗ 573masl 🇵🇭 Cabangan Zambales 📍 Difficulty: 4/9 \n🌟 Event Fee: Php 1\,600/pax\n✅ Required Down payment: Php 800/pax\n🚐 Minimum of 11-14pax per Van \nINCLUSIONS:\n✅ Round Trip Van\n✅ Registration Fee\n✅ Local Tour guide\n✅ Event Coordinator\n✅ Event Bag tags \nEXCLUSIONS\n❌ Foods\n❌ Shower \nTOUR HIGHLIGHTS:\n○ Summit\n○ Bukidnon vibes\n○ Cotomines river vibes \n  \n \n  \nOpen for solo or group joiners. Also available for exclusive tour at your prefer schedule. \nFor full details and the itinerary\, send us a message on our official Facebook page\, Tanaw Explorer\, or email us at info@tanawexplorer.com. \n  \nView Calendar
URL:https://www.tanawexplorer.com/event/mt-mariglem-march-29-2026/
LOCATION:Mt Mariglem\, Cabangan\, Zambales\, Philippines
CATEGORIES:Daytour,Hiking,River
ATTACH;FMTTYPE=image/jpeg:https://www.tanawexplorer.com/wp-content/uploads/2025/08/Mt-Mariglem-River-2.jpg
ORGANIZER;CN="Tanaw Explorer":MAILTO:info@tanawexplorer.com
END:VEVENT
BEGIN:VEVENT
DTSTART;VALUE=DATE:20260228
DTEND;VALUE=DATE:20260301
DTSTAMP:20260423T224114
CREATED:20260217T064411Z
LAST-MODIFIED:20260314T132516Z
UID:2525-1772236800-1772323199@www.tanawexplorer.com
SUMMARY:Mt Daraitan | February 28\, 2026
DESCRIPTION:⛰ MT DARAITAN x HEART PEAK x TINIPAK RIVER x CAVE\n↗ 739masl 🇵🇭 Tanay Rizal 📍 Difficulty: 4/9 \n🌟 Event Fee: Php 1\,500/pax\n✅ Required Down payment: Php 800/pax\n🚐 Minimum of 11-14pax per Van \nINCLUSIONS:\n✅ Round Trip Van\n✅ Registration Fee\n✅ Environmental Fee\n✅ Local Tour guide\n✅ Trycycle fee to jump off\n✅ Boat transfer fee\n✅ Event Coordinator\n✅ Event Bag tags \nEXCLUSIONS\n❌ Foods\n❌ Shower\n❌ Rental of headlamp\n❌ Optional Traverse to Tinipak River 100/head \nTOUR HIGHLIGHTS:\n○ Summit\n○ Heart Peak\n○ Tinipak River & Rock Formations\n○ Cave & Spring (If Open) \n  \n \n  \nOpen for solo or group joiners. Also available for exclusive tour at your prefer schedule. \nFor full details and the itinerary\, send us a message on our official Facebook page\, Tanaw Explorer\, or email us at info@tanawexplorer.com. \n  \nView Calendar
URL:https://www.tanawexplorer.com/event/mt-daraitan-february-28-2026/
LOCATION:Mt Daraitan\, Tanay\, Rizal\, Philippines
CATEGORIES:Daytour,Hiking,River
ATTACH;FMTTYPE=image/jpeg:https://www.tanawexplorer.com/wp-content/uploads/2024/06/Mt-Daraitan.jpg
ORGANIZER;CN="Tanaw Explorer":MAILTO:info@tanawexplorer.com
END:VEVENT
BEGIN:VEVENT
DTSTART;VALUE=DATE:20260215
DTEND;VALUE=DATE:20260216
DTSTAMP:20260423T224114
CREATED:20240625T172658Z
LAST-MODIFIED:20260131T141709Z
UID:622-1771113600-1771199999@www.tanawexplorer.com
SUMMARY:Mt Mariglem + River | February 15\, 2026
DESCRIPTION:⛰ MT MARIGLEM + RIVER\n↗ 573masl 🇵🇭 Cabangan Zambales 📍 Difficulty: 4/9 \n🌟 Event Fee: Php 1\,500/pax\n✅ Required Down payment: Php 800/pax\n🚐 Minimum of 11-14pax per Van \nINCLUSIONS:\n✅ Round Trip Van\n✅ Registration Fee\n✅ Local Tour guide\n✅ Event Coordinator\n✅ Event Bag tags \nEXCLUSIONS\n❌ Foods\n❌ Shower \nTOUR HIGHLIGHTS:\n○ Summit\n○ Bukidnon vibes\n○ Cotomines river vibes \n  \n \n  \nOpen for solo or group joiners. Also available for exclusive tour at your prefer schedule. \nFor full details and the itinerary\, send us a message on our official Facebook page\, Tanaw Explorer\, or email us at info@tanawexplorer.com. \n  \nView Calendar
URL:https://www.tanawexplorer.com/event/mt-mariglem-february-15-2026/
LOCATION:Mt Mariglem\, Cabangan\, Zambales\, Philippines
CATEGORIES:Daytour,Hiking,River
ATTACH;FMTTYPE=image/jpeg:https://www.tanawexplorer.com/wp-content/uploads/2025/08/Mt-Mariglem-River-2.jpg
ORGANIZER;CN="Tanaw Explorer":MAILTO:info@tanawexplorer.com
END:VEVENT
BEGIN:VEVENT
DTSTART;VALUE=DATE:20260125
DTEND;VALUE=DATE:20260126
DTSTAMP:20260423T224114
CREATED:20260106T025625Z
LAST-MODIFIED:20260106T025702Z
UID:2487-1769299200-1769385599@www.tanawexplorer.com
SUMMARY:Mt Irid | January 25\, 2026
DESCRIPTION:⛰ MT IRID – HIGHEST MOUNTAIN IN RIZAL\n↗ 1469+masl 🇵🇭 Tanay Rizal📍 Difficulty: 6/9 \n🌟 Event Fee: Php 1\,600/pax\n✅ Required Down payment: Php 800/pax\n🚐 Minimum of 11-14pax per Van \nINCLUSIONS:\n✅ Round Trip Van\n✅ Registration Fee\n✅ Environmental Fee\n✅ Climb Certificate\n✅ Local Tour guide\n✅ Event Coordinator\n✅ Event Bag tags \nEXCLUSIONS\n❌ Shower\n❌ Food \nTOUR HIGHLIGHTS:\n○ Summit\n○ Waterfalls\n○ Mossy Forest\n○ Monster Jeep\n○ River crossing\n○ Limestone formation \n  \nOpen for solo or group joiners. Also available for exclusive tour at your prefer schedule. \nFor full details and the itinerary\, send us a message on our official Facebook page\, Tanaw Explorer\, or email us at info@tanawexplorer.com. \n  \nView Calendar
URL:https://www.tanawexplorer.com/event/mt-daraitan-january-25-2026/
LOCATION:mt irid\, Tanay\, Riza\, Philippines
CATEGORIES:Daytour,Hiking,River
ATTACH;FMTTYPE=image/jpeg:https://www.tanawexplorer.com/wp-content/uploads/2026/01/Mt-Irid.jpg
ORGANIZER;CN="Tanaw Explorer":MAILTO:info@tanawexplorer.com
END:VEVENT
BEGIN:VEVENT
DTSTART;VALUE=DATE:20260118
DTEND;VALUE=DATE:20260119
DTSTAMP:20260423T224114
CREATED:20250815T114400Z
LAST-MODIFIED:20251202T183937Z
UID:2050-1768694400-1768780799@www.tanawexplorer.com
SUMMARY:Mt Mariglem + River | January 18\, 2026
DESCRIPTION:⛰ MT MARIGLEM + RIVER\n↗ 573masl 🇵🇭 Cabangan Zambales 📍 Difficulty: 4/9 \n🌟 Event Fee: Php 1\,500/pax\n✅ Required Down payment: Php 800/pax\n🚐 Minimum of 11-14pax per Van \nINCLUSIONS:\n✅ Round Trip Van\n✅ Registration Fee\n✅ Local Tour guide\n✅ Event Coordinator\n✅ Event Bag tags \nEXCLUSIONS\n❌ Foods\n❌ Shower \nTOUR HIGHLIGHTS:\n○ Summit\n○ Bukidnon vibes\n○ Cotomines river vibes \n  \n \n  \nOpen for solo or group joiners. Also available for exclusive tour at your prefer schedule. \nFor full details and the itinerary\, send us a message on our official Facebook page\, Tanaw Explorer\, or email us at info@tanawexplorer.com. \n  \nView Calendar
URL:https://www.tanawexplorer.com/event/mt-mariglem-january-18-2026/
LOCATION:Mt Mariglem\, Cabangan\, Zambales\, Philippines
CATEGORIES:Daytour,Hiking,River
ATTACH;FMTTYPE=image/jpeg:https://www.tanawexplorer.com/wp-content/uploads/2025/08/Mt-Mariglem-River-2.jpg
ORGANIZER;CN="Tanaw Explorer":MAILTO:info@tanawexplorer.com
END:VEVENT
BEGIN:VEVENT
DTSTART;VALUE=DATE:20251123
DTEND;VALUE=DATE:20251124
DTSTAMP:20260423T224114
CREATED:20250805T171018Z
LAST-MODIFIED:20251105T121447Z
UID:1982-1763856000-1763942399@www.tanawexplorer.com
SUMMARY:Mt Mariglem + River | November 22\, 2025.
DESCRIPTION:⛰ MT MARIGLEM + RIVER\n↗ 573masl 🇵🇭 Cabangan Zambales 📍 Difficulty: 4/9 \n🌟 Event Fee: Php 1\,500/pax\n✅ Required Down payment: Php 800/pax\n🚐 Minimum of 11-14pax per Van \nINCLUSIONS:\n✅ Round Trip Van\n✅ Registration Fee\n✅ Local Tour guide\n✅ Event Coordinator\n✅ Event Bag tags \nEXCLUSIONS\n❌ Foods\n❌ Shower \nTOUR HIGHLIGHTS:\n○ Summit\n○ Bukidnon vibes\n○ Cotomines river vibes \n  \n \n  \nOpen for solo or group joiners. Also available for exclusive tour at your prefer schedule. \nFor full details and the itinerary\, send us a message on our official Facebook page\, Tanaw Explorer\, or email us at info@tanawexplorer.com. \n  \nView Calendar
URL:https://www.tanawexplorer.com/event/mt-mariglem-november-22-2025/
LOCATION:Mt Mariglem\, Cabangan\, Zambales\, Philippines
CATEGORIES:Daytour,Hiking,River
ATTACH;FMTTYPE=image/jpeg:https://www.tanawexplorer.com/wp-content/uploads/2025/08/Mt-Mariglem-River-2.jpg
ORGANIZER;CN="Tanaw Explorer":MAILTO:info@tanawexplorer.com
END:VEVENT
BEGIN:VEVENT
DTSTART;VALUE=DATE:20251122
DTEND;VALUE=DATE:20251123
DTSTAMP:20260423T224114
CREATED:20250815T114209Z
LAST-MODIFIED:20251105T123040Z
UID:2046-1763769600-1763855999@www.tanawexplorer.com
SUMMARY:Mt Mariglem + River | November 22\, 2025
DESCRIPTION:⛰ MT MARIGLEM + RIVER\n↗ 573masl 🇵🇭 Cabangan Zambales 📍 Difficulty: 4/9 \n🌟 Event Fee: Php 1\,500/pax\n✅ Required Down payment: Php 800/pax\n🚐 Minimum of 11-14pax per Van \nINCLUSIONS:\n✅ Round Trip Van\n✅ Registration Fee\n✅ Local Tour guide\n✅ Event Coordinator\n✅ Event Bag tags \nEXCLUSIONS\n❌ Foods\n❌ Shower \nTOUR HIGHLIGHTS:\n○ Summit\n○ Bukidnon vibes\n○ Cotomines river vibes \n  \n \n  \nOpen for solo or group joiners. Also available for exclusive tour at your prefer schedule. \nFor full details and the itinerary\, send us a message on our official Facebook page\, Tanaw Explorer\, or email us at info@tanawexplorer.com. \n  \nView Calendar
URL:https://www.tanawexplorer.com/event/mt-mariglem-november-22-2025-2/
LOCATION:Mt Mariglem\, Cabangan\, Zambales\, Philippines
CATEGORIES:Daytour,Hiking,River
ATTACH;FMTTYPE=image/jpeg:https://www.tanawexplorer.com/wp-content/uploads/2025/08/Mt-Mariglem-River-2.jpg
ORGANIZER;CN="Tanaw Explorer":MAILTO:info@tanawexplorer.com
END:VEVENT
END:VCALENDAR