BEGIN:VCALENDAR
VERSION:2.0
PRODID:-//Tanaw Explorer - ECPv6.15.20//NONSGML v1.0//EN
CALSCALE:GREGORIAN
METHOD:PUBLISH
X-WR-CALNAME:Tanaw Explorer
X-ORIGINAL-URL:https://www.tanawexplorer.com
X-WR-CALDESC:Events for Tanaw Explorer
REFRESH-INTERVAL;VALUE=DURATION:PT1H
X-Robots-Tag:noindex
X-PUBLISHED-TTL:PT1H
BEGIN:VTIMEZONE
TZID:UTC
BEGIN:STANDARD
TZOFFSETFROM:+0000
TZOFFSETTO:+0000
TZNAME:UTC
DTSTART:20250101T000000
END:STANDARD
END:VTIMEZONE
BEGIN:VEVENT
DTSTART;VALUE=DATE:20260426
DTEND;VALUE=DATE:20260427
DTSTAMP:20260423T232123
CREATED:20250816T140433Z
LAST-MODIFIED:20260414T031153Z
UID:2062-1777161600-1777247999@www.tanawexplorer.com
SUMMARY:Mt Tenglawan | April 26\, 2026
DESCRIPTION:⛰ MT TENGLAWAN\n↗ 1\,943masl 🇵🇭 Bakun Benguet 📍 Difficulty: 5/9 \n🌟 Event Fee: Php 3\,000/pax\n✅ Required Down payment: Php 1\,000/pax\n🚐 Minimum of 11-14pax per Van \nINCLUSIONS:\n✅ Round Trip Van\n✅ Monster Jeep\n✅ Toll Fees\n✅ Registration Fee\n✅ Environmental Fee\n✅ Local Tour guide\n✅ Event Coordinator\n✅ Event Bag tags \nEXCLUSIONS\n❌ Foods\n❌ Shower \nTOUR HIGHLIGHTS:\n○ Monster Jeep experience\n○ Pine Trees\n○ Summit \n  \n﻿ \nOpen for solo or group joiners. Also available for exclusive tour at your prefer schedule. \nFor full details and the itinerary\, send us a message on our official Facebook page\, Tanaw Explorer\, or email us at info@tanawexplorer.com. \n  \nView Calendar
URL:https://www.tanawexplorer.com/event/mt-tenglawan-april-26-2026/
LOCATION:Mt Tenglawan\, Bakun\, Benguet\, Philippines
CATEGORIES:Daytour,Hiking,Monster Jeep
ATTACH;FMTTYPE=image/jpeg:https://www.tanawexplorer.com/wp-content/uploads/2024/08/Mt-Tenglawan.jpg
ORGANIZER;CN="Tanaw Explorer":MAILTO:info@tanawexplorer.com
END:VEVENT
BEGIN:VEVENT
DTSTART;TZID=UTC:20260501T000000
DTEND;TZID=UTC:20260503T233000
DTSTAMP:20260423T232123
CREATED:20251226T171748Z
LAST-MODIFIED:20260405T122220Z
UID:2456-1777593600-1777851000@www.tanawexplorer.com
SUMMARY:Sagada Tour 3D2N | May 1-3\, 2026
DESCRIPTION:⛰ SAGADA 3D2N\n🇵🇭 Mountain Province \n🌟 Event Fee: Php 4\,500/pax\n✅ Required Down payment: Php 1\,000/pax\n🚐 Minimum of 12-14pax per Van  \nINCLUSIONS:\n✅ Roundtrip Van\n✅ Accomodation Room w/ Free Wifi\n✅ Unli Brewed Coffee\n✅ Toll Fee\n✅ Coordinator\n✅ Event Bagtag \nEXCLUSIONS:\n❌ Foods\n❌ All entrance\n❌ Guide fee\n❌ Shuttle service\n❌ Hands-on pottery making\n❌ Rock Climbing Php500/pax (unli climb) \nTOUR HIGHLIGHTS:\n○ BANAUE ARC\n○ BANAUE RICE TERRACES\n○ SUMAGUING CAVE / BALANGAGAN CAVE\n○ ST MARY’S CHURCH\n○ ECHO VALLEY\n○ HANGING COFFINS\n○ POTTERY HOUSE\n○ MARLBORO HILLS\n○ BLUE SOIL HILLS\n○ LEMON PIE HOUSE\n○ SAGADA BREW\n○ BUMOK-OD FALLS\n○ HIGHEST POINT ATOK BENGUET\n○ STRAWBERRY FARM\n○ PASALUBONG/SOUVENIERS \n  \n \nOpen for solo or group joiners. Also available for exclusive tour at your prefer schedule. \nFor full details and the itinerary\, send us a message on our official Facebook page\, Tanaw Explorer\, or email us at info@tanawexplorer.com. \n  \nView Calendar
URL:https://www.tanawexplorer.com/event/sagada-tour-may-1-3-2026/
LOCATION:Sagada\, Sagada\, Mountain Province\, Philippines
CATEGORIES:3D2N,City Tour,Falls,Hiking
ATTACH;FMTTYPE=image/jpeg:https://www.tanawexplorer.com/wp-content/uploads/2024/10/Sagada.jpg
ORGANIZER;CN="Tanaw Explorer":MAILTO:info@tanawexplorer.com
END:VEVENT
BEGIN:VEVENT
DTSTART;VALUE=DATE:20260502
DTEND;VALUE=DATE:20260503
DTSTAMP:20260423T232123
CREATED:20260131T142412Z
LAST-MODIFIED:20260412T202740Z
UID:2514-1777680000-1777766399@www.tanawexplorer.com
SUMMARY:Mt Ulap Eco Trail | May 2\, 2026
DESCRIPTION:⛰ MT ULAP x BAGUIO SIDE TRIP\n↗ 1846masl 🇵🇭 Itogon Benguet 📍 Difficulty: 3/9 \n🌟 Event Fee: Php 2\,500/pax\n✅ Required Down payment: Php 1\,000/pax\n🚐 Minimum of 11-14pax per Van \nINCLUSIONS:\n✅ Round Trip Van\n✅ Toll Fees\n✅ Registration Fee\n✅ Environmental Fee\n✅ Local Tour guide\n✅ Event Coordinator\n✅ Event Bag tags \nEXCLUSIONS\n❌ Foods\n❌ Shower \nTOUR HIGHLIGHTS:\n○ Ambanao Peak\n○ Pine Forest Trail\n○ Gungal Rock\n○ Campsite\n○ Summit \n  \n \n  \nOpen for solo or group joiners. Also available for exclusive tour at your prefer schedule. \nFor full details and the itinerary\, send us a message on our official Facebook page\, Tanaw Explorer\, or email us at info@tanawexplorer.com. \n  \nView Calendar
URL:https://www.tanawexplorer.com/event/mt-ulap-may-2-2026/
LOCATION:Mt Ulap\, Itogon\, Benguet\, Philippines
CATEGORIES:Daytour,Hiking
ATTACH;FMTTYPE=image/jpeg:https://www.tanawexplorer.com/wp-content/uploads/2024/06/Mt-Ulap-2.jpg
ORGANIZER;CN="Tanaw Explorer":MAILTO:info@tanawexplorer.com
END:VEVENT
BEGIN:VEVENT
DTSTART;VALUE=DATE:20260502
DTEND;VALUE=DATE:20260503
DTSTAMP:20260423T232123
CREATED:20260311T054625Z
LAST-MODIFIED:20260419T131457Z
UID:2559-1777680000-1777766399@www.tanawexplorer.com
SUMMARY:Goatcliff Ferrata & Rappelling | May 2\, 2026
DESCRIPTION:⛰ GOATCLIFF FERRATA & RAPELLING x MT OLIS x NORTHERN BLOSSOM\n🇵🇭 Atok Benguet \n🌟 Event Fee: Php 3\,500/pax\n✅ Required Down payment: Php 1\,000/pax\n🚐 Minimum of 11-14pax per Van \nINCLUSIONS:\n✅ Round Trip Van\n✅ Registration Fee\n✅ Environmental Fee\n✅ Local Tour guide\n✅ Event Coordinator\n✅ Event Bag tags\n✅ 3 rounds Rappelling Goatcliff\n✅ Unlimited rounds of Via Ferrata\n✅ Coffee and bread (Northern blossom) \nEXCLUSIONS\n❌ Shower\n❌ Food \nTOUR HIGHLIGHTS:\n○ Northern Blossom Flower Farm (Closed every Sunday) Optional\n○ Mt Olis (Closed every Sunday) Optional\n○ Rappelling goatcliff\n○ Unlimited Ferrata \n  \n \nOpen for solo or group joiners. Also available for exclusive tour at your prefer schedule. \nFor full details and the itinerary\, send us a message on our official Facebook page\, Tanaw Explorer\, or email us at info@tanawexplorer.com. \n  \nView Calendar
URL:https://www.tanawexplorer.com/event/goatcliff-ferrata-rappelling-may-2-2026/
LOCATION:Goatcliff\, Atok\, Benguet
CATEGORIES:Daytour,Hiking,River
ATTACH;FMTTYPE=image/jpeg:https://www.tanawexplorer.com/wp-content/uploads/2026/03/Goatcliff-Category.jpg
ORGANIZER;CN="Tanaw Explorer":MAILTO:info@tanawexplorer.com
END:VEVENT
BEGIN:VEVENT
DTSTART;VALUE=DATE:20260509
DTEND;VALUE=DATE:20260510
DTSTAMP:20260423T232123
CREATED:20251023T033235Z
LAST-MODIFIED:20260412T201500Z
UID:2196-1778284800-1778371199@www.tanawexplorer.com
SUMMARY:Mt Batulao | May 9\, 2026
DESCRIPTION:⛰ MT BATULAO\n↗ 811+masl 🇵🇭 Nasugbu Batangas 📍 Difficulty: 4/9 \n🌟 Event Fee: Php 1\,500/pax\n✅ Required Down payment: Php 500/pax\n🚐 Minimum of 11-14pax per Van \nINCLUSIONS:\n✅ Round Trip Van\n✅ Toll Fees\n✅ Registration Fee\n✅ Environmental Fee\n✅ Local Tour guide\n✅ Event Coordinator\n✅ Event Bag tags \nEXCLUSIONS\n❌ Foods\n❌ Shower \nTOUR HIGHLIGHTS:\n○ Summit\n○ Campsite\n○ Caleruega Church\n○ Lunch in Batangas/Tagaytay \n  \n \n  \nOpen for solo or group joiners. Also available for exclusive tour at your prefer schedule. \nFor full details and the itinerary\, send us a message on our official Facebook page\, Tanaw Explorer\, or email us at info@tanawexplorer.com. \n  \nView Calendar
URL:https://www.tanawexplorer.com/event/mt-batulao-may-9-2026/
LOCATION:Mt Batulao\, Nasugbu\, Batangas\, Philippines
CATEGORIES:Daytour,Hiking
ATTACH;FMTTYPE=image/jpeg:https://www.tanawexplorer.com/wp-content/uploads/2025/10/Mt-Batulao.jpg
ORGANIZER;CN="Tanaw Explorer":MAILTO:info@tanawexplorer.com
END:VEVENT
BEGIN:VEVENT
DTSTART;VALUE=DATE:20260510
DTEND;VALUE=DATE:20260511
DTSTAMP:20260423T232123
CREATED:20260313T141558Z
LAST-MODIFIED:20260414T023704Z
UID:2565-1778371200-1778457599@www.tanawexplorer.com
SUMMARY:Goatcliff Ferrata & Rappelling | May 10\, 2026
DESCRIPTION:⛰ GOATCLIFF FERRATA & RAPELLING x ATOK TOUR x BAGUIO\n🇵🇭 Atok Benguet \n🌟 Event Fee: Php 3\,500/pax\n✅ Required Down payment: Php 1\,000/pax\n🚐 Minimum of 11-14pax per Van \nINCLUSIONS:\n✅ Round Trip Van\n✅ Registration Fee\n✅ Environmental Fee\n✅ Local Tour guide\n✅ Event Coordinator\n✅ Event Bag tags\n✅ 3 rounds Rappelling Goatcliff\n✅ Unlimited rounds of Via Ferrata \nEXCLUSIONS\n❌ Shower\n❌ Food \nTOUR HIGHLIGHTS:\n○ Rappelling goatcliff\n○ Unlimited Ferrata\n○ Sakura Flower Farm\n○ Highest Point\n○ Halsema Half Tunner\n○ Burnham Park Baguio \n  \n \n  \nOpen for solo or group joiners. Also available for exclusive tour at your prefer schedule. \nFor full details and the itinerary\, send us a message on our official Facebook page\, Tanaw Explorer\, or email us at info@tanawexplorer.com. \n  \nView Calendar
URL:https://www.tanawexplorer.com/event/goatcliff-ferrata-rappelling-may-10-2026/
LOCATION:Goatcliff\, Atok\, Benguet
CATEGORIES:Daytour,Hiking,River
ATTACH;FMTTYPE=image/jpeg:https://www.tanawexplorer.com/wp-content/uploads/2026/04/Goatcliff.jpg
ORGANIZER;CN="Tanaw Explorer":MAILTO:info@tanawexplorer.com
END:VEVENT
BEGIN:VEVENT
DTSTART;VALUE=DATE:20260516
DTEND;VALUE=DATE:20260517
DTSTAMP:20260423T232123
CREATED:20251105T120623Z
LAST-MODIFIED:20260422T045809Z
UID:2215-1778889600-1778975999@www.tanawexplorer.com
SUMMARY:Mt Kulis (Beginner Friendly Hike) | May 16\, 2026
DESCRIPTION:⛰ MT KULIS + 8 DESTINATION\n↗ 620masl 🇵🇭 Tanay Rizal 📍 Difficulty: 3/9 \n🌟 Event Fee: Php 1\,500/pax\n✅ Required Down payment: Php 800/pax\n🚐 Minimum of 11-14pax per Van \nINCLUSIONS:\n✅ Round Trip Van\n✅ Registration Fee\n✅ Environmental Fee\n✅ Local Tour guide\n✅ Event Coordinator\n✅ Event Bag tags \nEXCLUSIONS\n❌ Foods\n❌ Shower\n❌ Monster Truck 4×4 (Optional) 50/head \nTOUR HIGHLIGHTS:\n○ Mt Kulis Summit (Bahay ni Cardo)\n○ Noah’s Arc\n○ Sambong Peak\n○ Rock Formation\n○ Hearts Peak\n○ Spider Web\n○ Hanging Bridge\n○ Lion House Falls\n○ Natural Pool \n  \n \n  \nOpen for solo or group joiners. Also available for exclusive tour at your prefer schedule. \nFor full details and the itinerary\, send us a message on our official Facebook page\, Tanaw Explorer\, or email us at info@tanawexplorer.com. \n  \nView Calendar
URL:https://www.tanawexplorer.com/event/mt-kulis-beginner-friendly-hike-may-16-2026/
LOCATION:Zambales
CATEGORIES:Daytour,Falls,Hiking
ATTACH;FMTTYPE=image/jpeg:https://www.tanawexplorer.com/wp-content/uploads/2024/09/Mt-Kulis-Featured.jpg
END:VEVENT
BEGIN:VEVENT
DTSTART;VALUE=DATE:20260523
DTEND;VALUE=DATE:20260524
DTSTAMP:20260423T232123
CREATED:20240818T174900Z
LAST-MODIFIED:20260422T045937Z
UID:1079-1779494400-1779580799@www.tanawexplorer.com
SUMMARY:Mt Pinatubo 4x4 | May 23\, 2026
DESCRIPTION:⛰ MT PINATUBO – 4×4 CAPAS TARLAC\n↗ 1486masl 🇵🇭 Capas\, Tarlac \n🌟 Event Fee: Php 4\,000/pax\n✅ Required Down payment: Php 1\,000/pax\n🚐 Minimum of 11-14pax per Van \nINCLUSIONS:\n✅ Round Trip Van\n✅ Toll Fees\n✅ Registration Fee\n✅ Botolan Fee\n✅ Local Tour guide\n✅ Event Coordinator\n✅ Event Bag tags \nEXCLUSIONS\n❌ Foods\n❌ Shower \nTOUR HIGHLIGHTS:\n○ Lahar Road\n○ 4×4 Experience\n○ Crater lake\n○ Summit \n \n  \nOpen for solo or group joiners. Also available for exclusive tour at your prefer schedule. \nFor full details and the itinerary\, send us a message on our official Facebook page\, Tanaw Explorer\, or email us at info@tanawexplorer.com. \n  \nView Calendar
URL:https://www.tanawexplorer.com/event/mt-pinatubo-4x4-may-23-2026/
LOCATION:Mt Pinatubo\, Capas\, Tarlac\, Philippines
CATEGORIES:Daytour,Hiking
ATTACH;FMTTYPE=image/jpeg:https://www.tanawexplorer.com/wp-content/uploads/2024/08/Mt-Pinatubo-4x4-4.jpg
ORGANIZER;CN="Tanaw Explorer":MAILTO:info@tanawexplorer.com
END:VEVENT
BEGIN:VEVENT
DTSTART;VALUE=DATE:20260524
DTEND;VALUE=DATE:20260525
DTSTAMP:20260423T232123
CREATED:20260414T114627Z
LAST-MODIFIED:20260414T132924Z
UID:2643-1779580800-1779667199@www.tanawexplorer.com
SUMMARY:Balik Eskwela 2026 Outreach Program + Limliwa Beach | May 24\, 2026
DESCRIPTION:BALIK ESKWELA 2026 OUTREACH PROGRAM + LIMLIWA BEACH\n🇵🇭 Cawag/San Felipe\, Zambales \n🌟 Event Fee: Php 2\,500/pax\n✅ Required Down payment: Php 1\,000/pax\n🚐 Minimum of 11-14pax per Van \nINCLUSION\n✅ Round Trip Van\n✅ Toll Fees\n✅ Registration Fee\n✅ Environmental Fee\n✅ Event Coordinator\n✅ Parking Fee\n✅ Event Bag tags\n✅ Boodle Lunch \nTOUR HIGHLIGHTS:\n○ Outreach Activity\n○ Beach Activity \nSAMPLE ITINERARY \nDay 0\n11:00pm – 1:00am: Pickup \nDay 1\n5:00am: Breakfast\n6:00am: ETA Sitio Cawag\, prepare school supplies & grocery\n7:00am: Outreach activity\n10:00am: End of outreach\, travel to San Felipe\, Zambales\n11:00am: Limliwa Beach\n12:00nn: Boodle Lunch\n1:00pm: Swimming\, free time\, activity\n5:30pm: Pack up\, shower\n7:00pm: ETD to Manila\n10:00pm: ETA Manila \nTHINGS TO BRING:\n》I.D\n》Bottle water\n》Snacks or other food\n》First Aid Kit\n》Cap/Sunblock\n》Garbage Bag\n》Poncho/Rain Gear\n》Arm sleeve/ Long sleeve\n》Extra Clothes\n》Swim wear\n》Extra Money \nNOTE:\n✅ Deposit for slot reservation\n✅ Please practice LNT – Leave No Trace Policy\n✅ Enjoy the hike\, meet new friends\, socialize\, and appreciate God’s amazing creation.\n✅ Profit will be used to buy school supplies and grocery and be given to the kindergarten\, elementary students of Sitio Cawag.\n✅ We will request assistance from all joiners to this event.\n✅ We are open for donations of school supplies\, grocery and even fund to buy supplies \nOnline registration: \nMode of payment for slot reservation:\n• Account Name: Christian Manalili\n• BPI: 3199-3546-46\n• GCash: 09129084842\n• Maya: 09129084842 \n  \nPREVIOUS OUTREACH PROGRAM \nBalik Eskwela 2024\n \nBalik Eskwela 2025\n \nUpcoming schedule
URL:https://www.tanawexplorer.com/event/balik-eskwela-outreach-program-limliwa-beach-2026-may-24-2026/
LOCATION:Cawag Hexa\, Subic\, Zambales\, Philippines
CATEGORIES:Daytour,Hiking
ATTACH;FMTTYPE=image/jpeg:https://www.tanawexplorer.com/wp-content/uploads/2026/04/Balik-Eskwela-Event-Website-Cover-2026-V2.jpg
ORGANIZER;CN="Tanaw Explorer":MAILTO:info@tanawexplorer.com
END:VEVENT
BEGIN:VEVENT
DTSTART;TZID=UTC:20260612T080000
DTEND;TZID=UTC:20260613T170000
DTSTAMP:20260423T232123
CREATED:20250519T053015Z
LAST-MODIFIED:20260414T022235Z
UID:1681-1781251200-1781370000@www.tanawexplorer.com
SUMMARY:Mt Fato x Mt Kupapey | June 12-13\, 2026
DESCRIPTION:⛰ MT FATO x MT KUPAPEY\n↗ 1438masl/1647masl 🇵🇭 Mountain Province📍 Difficulty: 3/9 \n🌟 Event Fee: Php 4\,500/pax\n✅ Required Down payment: Php 1000/pax\n🚐 Minimum of 11-14pax per Van \nINCLUSIONS:\n✅ Round Trip Van\n✅ Toll Fees\n✅ Registration Fee\n✅ Environmental Fee\n✅ Local Tour guide\n✅ Event Coordinator\n✅ Event Bag tags\n✅ Homestay\n✅ 3 hosted meal \nEXCLUSIONS:\n❌ Not mention above \nTOUR HIGHLIGHTS:\n○ RICE TERRACES\n○ SUMMIT\n○ SEA OF CLOUDS\n○ PANORAMIC VIEW OF CORDILLERA\n○ ROCK FORMATIONS\n○ NORTHERN BLOSSOM (optional\, 250+50 entrance & environmental)\n○ NABENNGAN BRIDGE \n  \n \n  \nOpen for solo or group joiners. Also available for exclusive tour at your prefer schedule. \nFor full details and the itinerary\, send us a message on our official Facebook page\, Tanaw Explorer\, or email us at info@tanawexplorer.com. \n  \nView Calendar
URL:https://www.tanawexplorer.com/event/mt-fato-x-mt-kupapey-june-12-13-2026/
LOCATION:Mt fato x Mt Kupapey\, Mountain Province\, Philippines
CATEGORIES:2D1N,Hiking
ATTACH;FMTTYPE=image/jpeg:https://www.tanawexplorer.com/wp-content/uploads/2025/05/Mt-Kupapey.jpg
ORGANIZER;CN="Tanaw Explorer":MAILTO:info@tanawexplorer.com
END:VEVENT
BEGIN:VEVENT
DTSTART;TZID=UTC:20261201T000000
DTEND;TZID=UTC:20261206T233000
DTSTAMP:20260423T232123
CREATED:20260407T081829Z
LAST-MODIFIED:20260419T050305Z
UID:2494-1796083200-1796599800@www.tanawexplorer.com
SUMMARY:Mt Yushan / Jade Mountain - Taiwan Tour | December 1-6\, 2026
DESCRIPTION:⛰️ MT YUSHAN / JADE MOUNTAIN 2D1N w/ TAIWAN TOUR\n↗ 3952masl 🇹🇼 Taiwan \n🌟 Event Fee: Php 13\,500/pax\n✅ Required Down payment: Php 3\,000/pax \nINCLUSIONS:\n✅ Permit fee\n✅ Registration Fee\n✅ Mt Yushan Tour Guide/Coordinator\n✅ Hotel Accommodation before the hike\n✅ Mountain Lodge Accommodation\n✅ Winter Sleeping Bag\n✅ Roundtrip transport Taichung City to Yushan National Park\n✅ Roundtrip transport Tataka Saddle to Yushan\n✅ Food: Day 1 Dinner\, Day 2 Bfast/Brunch\n✅ Bagtag\n✅ Ref Magnet \nEXCLUSIONS\n❌ Roundtrip Airfare Manila – Taiwan\n❌ Travel Tax\n❌ Pocket Money\n❌ Taiwan City Tour expenses\n❌ Coordinators fee for Taiwan tour – optional (1\,000/pax) \nTOUR HIGHLIGHTS:\n○ Mt Yushan/Jade Mountain\n○ Taipei City Tourist spot\n○ Taichung City Tourist Spot\n○ Sun Moon Lake \n \n  \nOpen for solo or group joiners. Also available for exclusive tour at your prefer schedule. \nFor full details and the itinerary\, send us a message on our official Facebook page\, Tanaw Explorer\, or email us at info@tanawexplorer.com. \n  \nView Calendar
URL:https://www.tanawexplorer.com/event/mt-yushan-hike-and-taiwan-tour/
LOCATION:Taiwan\, Taiwan
CATEGORIES:3D2N,Hiking
ATTACH;FMTTYPE=image/jpeg:https://www.tanawexplorer.com/wp-content/uploads/2026/04/Mt-Yushan-summit-1.jpg
ORGANIZER;CN="Tanaw Explorer":MAILTO:info@tanawexplorer.com
END:VEVENT
END:VCALENDAR