BEGIN:VCALENDAR
VERSION:2.0
PRODID:-//Tanaw Explorer - ECPv6.15.20//NONSGML v1.0//EN
CALSCALE:GREGORIAN
METHOD:PUBLISH
X-WR-CALNAME:Tanaw Explorer
X-ORIGINAL-URL:https://www.tanawexplorer.com
X-WR-CALDESC:Events for Tanaw Explorer
REFRESH-INTERVAL;VALUE=DURATION:PT1H
X-Robots-Tag:noindex
X-PUBLISHED-TTL:PT1H
BEGIN:VTIMEZONE
TZID:UTC
BEGIN:STANDARD
TZOFFSETFROM:+0000
TZOFFSETTO:+0000
TZNAME:UTC
DTSTART:20250101T000000
END:STANDARD
END:VTIMEZONE
BEGIN:VEVENT
DTSTART;VALUE=DATE:20260207
DTEND;VALUE=DATE:20260208
DTSTAMP:20260423T221954
CREATED:20250614T175210Z
LAST-MODIFIED:20260131T141311Z
UID:1734-1770422400-1770508799@www.tanawexplorer.com
SUMMARY:Alang Salacsac Tri-Peak/Quadpeak | February 7\, 2026
DESCRIPTION:ALANG SALACSAC TRI-PEAK/QUADPEAK (FORMERLY KAYAPA)\n⛰️ MT TUGEW ↗ 1467masl\n⛰️ MT CABO ↗ 1320masl\n⛰️ MT KABUAN ↗ 1457masl\n⛰️ SADJATAN PEAK ↗ 1438masl (Optional)\n🇵🇭 Nueva Vizcaya📍 Difficulty: 3/9 \n🌟 Event Fee: Php 2\,300/pax\n✅ Required Down payment: Php 1\,000/pax\n🚐 Minimum of 11-14pax per Van \nINCLUSIONS:\n✅ Round Trip Van\n✅ Registration Fee\n✅ Environmental Fee\n✅ Local Tour guide\n✅ Event Coordinator\n✅ Event Bag tag \nEXCLUSIONS\n❌ Shower\n❌ Food\n❌ QUADPEAK ( Optional – 50/pax)\n❌ Habal (If maulan 50/pax) or\n❌ Jeep Transfer (if hindi makatawid ang Van) \nTOUR HIGHLIGHTS:\n○ Mt Tugew Summit\n○ Mt Cabo Summit\n○ Mt Kabuan Summit\n○ Mt Sadjatan Summit\n○ 360° view\n○ Pine Tree Forest\n○ Rock Formation \n  \n \nOpen for solo or group joiners. Also available for exclusive tour at your prefer schedule. \nFor full details and the itinerary\, send us a message on our official Facebook page\, Tanaw Explorer\, or email us at info@tanawexplorer.com. \n  \nView Calendar
URL:https://www.tanawexplorer.com/event/kayapa-trilogy-quadpeak-february-7-2026-2/
LOCATION:Kayapa\, Nueva Vizcaya\, Philippines
CATEGORIES:Daytour,Hiking
ATTACH;FMTTYPE=image/jpeg:https://www.tanawexplorer.com/wp-content/uploads/2025/06/Kayapa.jpg
ORGANIZER;CN="Tanaw Explorer":MAILTO:info@tanawexplorer.com
END:VEVENT
BEGIN:VEVENT
DTSTART;TZID=UTC:20260213T000000
DTEND;TZID=UTC:20260214T233000
DTSTAMP:20260423T221954
CREATED:20260119T040428Z
LAST-MODIFIED:20260119T040542Z
UID:2505-1770940800-1771111800@www.tanawexplorer.com
SUMMARY:Mt Pulag Ambangeg | February 13-14\, 2026
DESCRIPTION:⛰ MT PULAG – AMBANGEG – HOMESTAY 2D1N\n↗ 2926masl 🇵🇭 Benguet 📍 Difficulty: 4/9 \n🌟 Event Fee: Php 4\,800/pax\n✅ Required Down payment: Php 1000/pax\n🚐 Minimum of 11-14pax per Van \nINCLUSIONS:\n✅ Round Trip Van\n✅ Homestay\n✅ Toll Fees\n✅ DENR Slot\n✅ Registration Fee\n✅ Environmental Fee\n✅ Barangay Fee\n✅ Local Tour guide\n✅ Event Coordinator\n✅ Event Bag tags\n✅ Climb Certificate\n✅ 3 hosted meal \nEXCLUSIONS:\n❌ Foods before and after hosted meal \nTOUR HIGHLIGHTS:\n○ MOSSY FOREST\n○ PINE TREES\n○ GRASSLAND\n○ CAMPSITE\n○ SEA OF CLOUDS\n○ SUMMIT \n  \n \n  \nOpen for solo or group joiners. Also available for exclusive tour at your prefer schedule. \nFor full details and the itinerary\, send us a message on our official Facebook page\, Tanaw Explorer\, or email us at info@tanawexplorer.com. \n  \nView Calendar
URL:https://www.tanawexplorer.com/event/mt-pulag-ambangeg-february-13-14-2026/
LOCATION:Mt Pulag\, Kabayan\, Benguet\, Philippines
CATEGORIES:2D1N,Hiking
ATTACH;FMTTYPE=image/jpeg:https://www.tanawexplorer.com/wp-content/uploads/2024/10/Mt-Pulag-Mossy-Forest.jpg
ORGANIZER;CN="Tanaw Explorer":MAILTO:info@tanawexplorer.com
END:VEVENT
BEGIN:VEVENT
DTSTART;VALUE=DATE:20260215
DTEND;VALUE=DATE:20260216
DTSTAMP:20260423T221955
CREATED:20240625T172658Z
LAST-MODIFIED:20260131T141709Z
UID:622-1771113600-1771199999@www.tanawexplorer.com
SUMMARY:Mt Mariglem + River | February 15\, 2026
DESCRIPTION:⛰ MT MARIGLEM + RIVER\n↗ 573masl 🇵🇭 Cabangan Zambales 📍 Difficulty: 4/9 \n🌟 Event Fee: Php 1\,500/pax\n✅ Required Down payment: Php 800/pax\n🚐 Minimum of 11-14pax per Van \nINCLUSIONS:\n✅ Round Trip Van\n✅ Registration Fee\n✅ Local Tour guide\n✅ Event Coordinator\n✅ Event Bag tags \nEXCLUSIONS\n❌ Foods\n❌ Shower \nTOUR HIGHLIGHTS:\n○ Summit\n○ Bukidnon vibes\n○ Cotomines river vibes \n  \n \n  \nOpen for solo or group joiners. Also available for exclusive tour at your prefer schedule. \nFor full details and the itinerary\, send us a message on our official Facebook page\, Tanaw Explorer\, or email us at info@tanawexplorer.com. \n  \nView Calendar
URL:https://www.tanawexplorer.com/event/mt-mariglem-february-15-2026/
LOCATION:Mt Mariglem\, Cabangan\, Zambales\, Philippines
CATEGORIES:Daytour,Hiking,River
ATTACH;FMTTYPE=image/jpeg:https://www.tanawexplorer.com/wp-content/uploads/2025/08/Mt-Mariglem-River-2.jpg
ORGANIZER;CN="Tanaw Explorer":MAILTO:info@tanawexplorer.com
END:VEVENT
BEGIN:VEVENT
DTSTART;TZID=UTC:20260215T000000
DTEND;TZID=UTC:20260216T233000
DTSTAMP:20260423T221955
CREATED:20251023T042908Z
LAST-MODIFIED:20260208T193154Z
UID:1516-1771113600-1771284600@www.tanawexplorer.com
SUMMARY:Mt Amuyao Barlig Trail | February 15-16\, 2026
DESCRIPTION:⛰ MT AMUYAO – BARLIG BACKTRAIL 2D1N\n↗ 2702masl 🇵🇭 Barlig\, Mountain Province📍 Difficulty: 6/9 \n🌟 Event Fee: Php 4\,000/pax\n✅ Required Down payment: Php 1000/pax\n🚐 Minimum of 11-14pax per Van \nINCLUSIONS:\n✅ Round Trip Van\n✅ Toll Fees\n✅ DENR Slot\n✅ Registration Fee\n✅ Environmental Fee\n✅ Local Tour guide\n✅ Event Coordinator\n✅ Event Bag tags\n✅ Climb Certificate\n✅ 3 hosted meal \nEXCLUSIONS:\n❌ Tent\n❌ Personal Porter (2\,500/15kg)) \nTOUR HIGHLIGHTS:\n○ BARLIG VIEWPOINT\n○ STAIRWAYS TO HEAVEN\n○ CAMPSITE\n○ SEA OF CLOUDS\n○ SUMMIT \n  \n \n  \nOpen for solo or group joiners. Also available for exclusive tour at your prefer schedule. \nFor full details and the itinerary\, send us a message on our official Facebook page\, Tanaw Explorer\, or email us at info@tanawexplorer.com. \n  \nView Calendar
URL:https://www.tanawexplorer.com/event/mt-amuyao-barlig-trail-february-15-16-2026/
LOCATION:Mt Amuyao\, Barlig\, Mountain Province\, Philippines
CATEGORIES:2D1N,Hiking
ATTACH;FMTTYPE=image/jpeg:https://www.tanawexplorer.com/wp-content/uploads/2024/06/Mt-Amuyao.jpg
ORGANIZER;CN="Tanaw Explorer":MAILTO:info@tanawexplorer.com
END:VEVENT
BEGIN:VEVENT
DTSTART;VALUE=DATE:20260221
DTEND;VALUE=DATE:20260222
DTSTAMP:20260423T221955
CREATED:20250303T143042Z
LAST-MODIFIED:20260131T142130Z
UID:1621-1771632000-1771718399@www.tanawexplorer.com
SUMMARY:Mt Arayat Quad Peak | February 21\, 2026
DESCRIPTION:⛰MT ARAYAT QUAD PEAK\n↗ 1030+masl 🇵🇭 Pampanga 📍 Difficulty: 7/9 \n🌟 Event Fee: Php 2\,000/pax\n✅ Required Down payment: Php 1\,000/pax\n🚐 Minimum of 10-14pax per Van \nINCLUSIONS:\n✅ Round Trip Van\n✅ Toll Fees\n✅ Registration Fee\n✅ Environmental Fee\n✅ Local Tour guide\n✅ Event Coordinator\n✅ Event Bag tags \nTOUR HIGHLIGHTS:\n○ Summit\n○ Aldo Peak\n○ Monkey Trail\n○ North Peaks\n○ South Pinnacle Peak\n○ Haring Bato \n \n  \nOpen for solo or group joiners. Also available for exclusive tour at your prefer schedule. \nFor full details and the itinerary\, send us a message on our official Facebook page\, Tanaw Explorer\, or email us at info@tanawexplorer.com. \n  \nView Calendar
URL:https://www.tanawexplorer.com/event/mt-arayat-quad-peak-february-21-2026/
LOCATION:Mt Arayat\, Arayat\, Pampanga\, Philippines
CATEGORIES:Daytour,Hiking
ATTACH;FMTTYPE=image/jpeg:https://www.tanawexplorer.com/wp-content/uploads/2025/01/Mt-Arayat.jpg
ORGANIZER;CN="Tanaw Explorer":MAILTO:info@tanawexplorer.com
END:VEVENT
BEGIN:VEVENT
DTSTART;VALUE=DATE:20260222
DTEND;VALUE=DATE:20260223
DTSTAMP:20260423T221955
CREATED:20250622T173927Z
LAST-MODIFIED:20260131T142543Z
UID:1746-1771718400-1771804799@www.tanawexplorer.com
SUMMARY:Alang Salacsac Tri-Peak/Quadpeak | February 22\, 2026
DESCRIPTION:ALANG SALACSAC TRI-PEAK/QUADPEAK (FORMERLY KAYAPA)\n⛰️ MT TUGEW ↗ 1467masl\n⛰️ MT CABO ↗ 1320masl\n⛰️ MT KABUAN ↗ 1457masl\n⛰️ SADJATAN PEAK ↗ 1438masl (Optional)\n🇵🇭 Nueva Vizcaya📍 Difficulty: 3/9 \n🌟 Event Fee: Php 2\,300/pax\n✅ Required Down payment: Php 1\,000/pax\n🚐 Minimum of 11-14pax per Van \nINCLUSIONS:\n✅ Round Trip Van\n✅ Registration Fee\n✅ Environmental Fee\n✅ Local Tour guide\n✅ Event Coordinator\n✅ Event Bag tag \nEXCLUSIONS\n❌ Shower\n❌ Food\n❌ QUADPEAK ( Optional – 50/pax)\n❌ Habal (If maulan 50/pax) or\n❌ Jeep Transfer (if hindi makatawid ang Van) \nTOUR HIGHLIGHTS:\n○ Mt Tugew Summit\n○ Mt Cabo Summit\n○ Mt Kabuan Summit\n○ Sadjatan Peak\n○ 360° view\n○ Pine Tree Forest\n○ Rock Formation \n  \n \nOpen for solo or group joiners. Also available for exclusive tour at your prefer schedule. \nFor full details and the itinerary\, send us a message on our official Facebook page\, Tanaw Explorer\, or email us at info@tanawexplorer.com. \n  \nView Calendar
URL:https://www.tanawexplorer.com/event/kayapa-trilogy-quadpeak-february-22-2026/
LOCATION:Kayapa\, Nueva Vizcaya\, Philippines
CATEGORIES:Daytour,Hiking
ATTACH;FMTTYPE=image/jpeg:https://www.tanawexplorer.com/wp-content/uploads/2025/06/Kayapa.jpg
ORGANIZER;CN="Tanaw Explorer":MAILTO:info@tanawexplorer.com
END:VEVENT
BEGIN:VEVENT
DTSTART;VALUE=DATE:20260228
DTEND;VALUE=DATE:20260301
DTSTAMP:20260423T221955
CREATED:20240624T090453Z
LAST-MODIFIED:20260103T120230Z
UID:447-1772236800-1772323199@www.tanawexplorer.com
SUMMARY:Mt Makiling | February 28\, 2026
DESCRIPTION:⛰ MT MAKILING\n↗ 1090masl 🇵🇭 Los Baños Laguna 📍 Difficulty: 5/9 \n🌟 Event Fee: Php 1\,300/pax\n✅ Required Down payment: Php 800/pax\n🚐 Minimum of 11-14pax per Van \nINCLUSIONS:\n✅ Round Trip Van\n✅ Registration Fee\n✅ Local Tour guide\n✅ Event Coordinator\n✅ Event Bag tags \nEXCLUSIONS\n❌ Foods\n❌ Shower \nTOUR HIGHLIGHTS:\n○ Peak 2 Summit\n○ Station 14 Rafflesia Panchoana (season)\n○ Mossy Forest\n○ Mud Spring\n○ Makiling Rainforest Park \n  \n \n  \nOpen for solo or group joiners. Also available for exclusive tour at your prefer schedule. \nFor full details and the itinerary\, send us a message on our official Facebook page\, Tanaw Explorer\, or email us at info@tanawexplorer.com. \n  \nView Calendar
URL:https://www.tanawexplorer.com/event/mt-makiling-february-28-2026/
LOCATION:Mt Makiling\, Los Baños\, Laguna\, Philippines
CATEGORIES:Daytour,Hiking
ATTACH;FMTTYPE=image/jpeg:https://www.tanawexplorer.com/wp-content/uploads/2024/06/Mt-Makiling-2.jpg
ORGANIZER;CN="Tanaw Explorer":MAILTO:info@tanawexplorer.com
END:VEVENT
BEGIN:VEVENT
DTSTART;VALUE=DATE:20260228
DTEND;VALUE=DATE:20260301
DTSTAMP:20260423T221955
CREATED:20260217T064411Z
LAST-MODIFIED:20260314T132516Z
UID:2525-1772236800-1772323199@www.tanawexplorer.com
SUMMARY:Mt Daraitan | February 28\, 2026
DESCRIPTION:⛰ MT DARAITAN x HEART PEAK x TINIPAK RIVER x CAVE\n↗ 739masl 🇵🇭 Tanay Rizal 📍 Difficulty: 4/9 \n🌟 Event Fee: Php 1\,500/pax\n✅ Required Down payment: Php 800/pax\n🚐 Minimum of 11-14pax per Van \nINCLUSIONS:\n✅ Round Trip Van\n✅ Registration Fee\n✅ Environmental Fee\n✅ Local Tour guide\n✅ Trycycle fee to jump off\n✅ Boat transfer fee\n✅ Event Coordinator\n✅ Event Bag tags \nEXCLUSIONS\n❌ Foods\n❌ Shower\n❌ Rental of headlamp\n❌ Optional Traverse to Tinipak River 100/head \nTOUR HIGHLIGHTS:\n○ Summit\n○ Heart Peak\n○ Tinipak River & Rock Formations\n○ Cave & Spring (If Open) \n  \n \n  \nOpen for solo or group joiners. Also available for exclusive tour at your prefer schedule. \nFor full details and the itinerary\, send us a message on our official Facebook page\, Tanaw Explorer\, or email us at info@tanawexplorer.com. \n  \nView Calendar
URL:https://www.tanawexplorer.com/event/mt-daraitan-february-28-2026/
LOCATION:Mt Daraitan\, Tanay\, Rizal\, Philippines
CATEGORIES:Daytour,Hiking,River
ATTACH;FMTTYPE=image/jpeg:https://www.tanawexplorer.com/wp-content/uploads/2024/06/Mt-Daraitan.jpg
ORGANIZER;CN="Tanaw Explorer":MAILTO:info@tanawexplorer.com
END:VEVENT
END:VCALENDAR