BEGIN:VCALENDAR
VERSION:2.0
PRODID:-//Tanaw Explorer - ECPv6.15.20//NONSGML v1.0//EN
CALSCALE:GREGORIAN
METHOD:PUBLISH
X-WR-CALNAME:Tanaw Explorer
X-ORIGINAL-URL:https://www.tanawexplorer.com
X-WR-CALDESC:Events for Tanaw Explorer
REFRESH-INTERVAL;VALUE=DURATION:PT1H
X-Robots-Tag:noindex
X-PUBLISHED-TTL:PT1H
BEGIN:VTIMEZONE
TZID:UTC
BEGIN:STANDARD
TZOFFSETFROM:+0000
TZOFFSETTO:+0000
TZNAME:UTC
DTSTART:20250101T000000
END:STANDARD
END:VTIMEZONE
BEGIN:VEVENT
DTSTART;TZID=UTC:20260612T080000
DTEND;TZID=UTC:20260613T170000
DTSTAMP:20260423T221525
CREATED:20250519T053015Z
LAST-MODIFIED:20260414T022235Z
UID:1681-1781251200-1781370000@www.tanawexplorer.com
SUMMARY:Mt Fato x Mt Kupapey | June 12-13\, 2026
DESCRIPTION:⛰ MT FATO x MT KUPAPEY\n↗ 1438masl/1647masl 🇵🇭 Mountain Province📍 Difficulty: 3/9 \n🌟 Event Fee: Php 4\,500/pax\n✅ Required Down payment: Php 1000/pax\n🚐 Minimum of 11-14pax per Van \nINCLUSIONS:\n✅ Round Trip Van\n✅ Toll Fees\n✅ Registration Fee\n✅ Environmental Fee\n✅ Local Tour guide\n✅ Event Coordinator\n✅ Event Bag tags\n✅ Homestay\n✅ 3 hosted meal \nEXCLUSIONS:\n❌ Not mention above \nTOUR HIGHLIGHTS:\n○ RICE TERRACES\n○ SUMMIT\n○ SEA OF CLOUDS\n○ PANORAMIC VIEW OF CORDILLERA\n○ ROCK FORMATIONS\n○ NORTHERN BLOSSOM (optional\, 250+50 entrance & environmental)\n○ NABENNGAN BRIDGE \n  \n \n  \nOpen for solo or group joiners. Also available for exclusive tour at your prefer schedule. \nFor full details and the itinerary\, send us a message on our official Facebook page\, Tanaw Explorer\, or email us at info@tanawexplorer.com. \n  \nView Calendar
URL:https://www.tanawexplorer.com/event/mt-fato-x-mt-kupapey-june-12-13-2026/
LOCATION:Mt fato x Mt Kupapey\, Mountain Province\, Philippines
CATEGORIES:2D1N,Hiking
ATTACH;FMTTYPE=image/jpeg:https://www.tanawexplorer.com/wp-content/uploads/2025/05/Mt-Kupapey.jpg
ORGANIZER;CN="Tanaw Explorer":MAILTO:info@tanawexplorer.com
END:VEVENT
END:VCALENDAR