BEGIN:VCALENDAR
VERSION:2.0
PRODID:-//Tanaw Explorer - ECPv6.15.20//NONSGML v1.0//EN
CALSCALE:GREGORIAN
METHOD:PUBLISH
X-ORIGINAL-URL:https://www.tanawexplorer.com
X-WR-CALDESC:Events for Tanaw Explorer
REFRESH-INTERVAL;VALUE=DURATION:PT1H
X-Robots-Tag:noindex
X-PUBLISHED-TTL:PT1H
BEGIN:VTIMEZONE
TZID:UTC
BEGIN:STANDARD
TZOFFSETFROM:+0000
TZOFFSETTO:+0000
TZNAME:UTC
DTSTART:20240101T000000
END:STANDARD
END:VTIMEZONE
BEGIN:VEVENT
DTSTART;VALUE=DATE:20250301
DTEND;VALUE=DATE:20250302
DTSTAMP:20260424T111851
CREATED:20250119T164033Z
LAST-MODIFIED:20250119T164033Z
UID:1576-1740787200-1740873599@www.tanawexplorer.com
SUMMARY:Mt Arayat Twin Peak | March 1\, 2025
DESCRIPTION:⛰MT ARAYAT SOUTH PINCLE\n↗ 1030+masl 🇵🇭 Pampanga 📍 Difficulty: 5/9 \n🌟 Event Fee: Php 1\,600/pax\n✅ Required Down payment: Php 800/pax\n🚐 Minimum of 10-14pax per Van \nINCLUSIONS:\n✅ Round Trip Van\n✅ Toll Fees\n✅ Registration Fee\n✅ Environmental Fee\n✅ Local Tour guide\n✅ Event Coordinator\n✅ Event Bag tags \nEXCLUSIONS\n❌ Foods\n❌ Resort & Shower (75.00) \nTOUR HIGHLIGHTS:\n○ Summit\n○ View Deck\n○ Monkey Trail\n○ Resort (Optional) \n  \n \n  \nOpen for solo or group joiners. Also available for exclusive tour at your prefer schedule. \nFor full details and the itinerary\, send us a message on our official Facebook page\, Tanaw Explorer\, or email us at info@tanawexplorer.com. \n  \nView Calendar
URL:https://www.tanawexplorer.com/event/mt-arayat-twin-peak-march-1-2025/
LOCATION:Mt Arayat\, Arayat\, Pampanga\, Philippines
CATEGORIES:Daytour,Hiking
ATTACH;FMTTYPE=image/jpeg:https://www.tanawexplorer.com/wp-content/uploads/2025/01/Mt-Arayat.jpg
ORGANIZER;CN="Tanaw Explorer":MAILTO:info@tanawexplorer.com
END:VEVENT
END:VCALENDAR