BEGIN:VCALENDAR
VERSION:2.0
PRODID:-//Tanaw Explorer - ECPv6.15.20//NONSGML v1.0//EN
CALSCALE:GREGORIAN
METHOD:PUBLISH
X-WR-CALNAME:Tanaw Explorer
X-ORIGINAL-URL:https://www.tanawexplorer.com
X-WR-CALDESC:Events for Tanaw Explorer
REFRESH-INTERVAL;VALUE=DURATION:PT1H
X-Robots-Tag:noindex
X-PUBLISHED-TTL:PT1H
BEGIN:VTIMEZONE
TZID:UTC
BEGIN:STANDARD
TZOFFSETFROM:+0000
TZOFFSETTO:+0000
TZNAME:UTC
DTSTART:20240101T000000
END:STANDARD
END:VTIMEZONE
BEGIN:VEVENT
DTSTART;VALUE=DATE:20251005
DTEND;VALUE=DATE:20251006
DTSTAMP:20260424T000300
CREATED:20240916T083716Z
LAST-MODIFIED:20251203T050436Z
UID:1114-1759622400-1759708799@www.tanawexplorer.com
SUMMARY:Cawag Hexa | Oct 5\, 2025
DESCRIPTION:CAWAG HEXA\n⛰️Mt. Balingkilat ↗ 1100masl\n⛰️Mt. Bira-Bira ↗ 450masl\n⛰️Mt. Naulaw\n⛰️Mt. Dayungan ↗ 935masl\n⛰️Mt. Cinco Picos ↗ 881masl\n⛰️Mt. Redondo ↗ 660masl\n🇵🇭 Subic Zambales 📍 Difficulty: 7/9 \n🌟 Event Fee: Php 2\,200/pax\n✅ Required Down payment: Php 1000/pax\n🚐 Minimum of 10-13pax per Van \nINCLUSIONS:\n✅ Round Trip Van\n✅ Toll Fee\n✅ Registration Fee\n✅ Environmental Fee\n✅ Local Tour guide\n✅ Event Coordinator\n✅ Event Bag tags\n✅ Certificate \nEXCLUSIONS\n❌ Foods\n❌ Shower \nTOUR HIGHLIGHTS:\n○ Mt. Balingkilat\n○ Mt. Bira-Bira\n○ Mt. Naulaw\n○ Mt. Dayungan\n○ Mt. Cinco Picos\n○ Mt. Redondo \n  \n \n  \nOpen for solo or group joiners. Also available for exclusive tour at your prefer schedule. \nFor full details and the itinerary\, send us a message on our official Facebook page\, Tanaw Explorer\, or email us at info@tanawexplorer.com. \n  \nView Calendar
URL:https://www.tanawexplorer.com/event/cawag-hexa-oct-5-2025/
LOCATION:Cawag Hexa\, Subic\, Zambales\, Philippines
CATEGORIES:Daytour,Falls,Hiking
ATTACH;FMTTYPE=image/jpeg:https://www.tanawexplorer.com/wp-content/uploads/2025/09/Cawag-Hexa-2.jpg
ORGANIZER;CN="Tanaw Explorer":MAILTO:info@tanawexplorer.com
END:VEVENT
BEGIN:VEVENT
DTSTART;VALUE=DATE:20251012
DTEND;VALUE=DATE:20251013
DTSTAMP:20260424T000300
CREATED:20250714T000137Z
LAST-MODIFIED:20250928T023705Z
UID:1778-1760227200-1760313599@www.tanawexplorer.com
SUMMARY:Mt Patullok x Tekip Falls | Oct 12\, 2025
DESCRIPTION:⛰ MT PATULLOK/MT LUBO x TEKIP FALLS\n↗ 2087masl 🇵🇭 Bakun Benguet📍 Difficulty: 3/9 \n🌟 Event Fee: Php 2\,500/pax\n✅ Required Down payment: Php 1\,000/pax\n🚐 Minimum of 11-14pax per Van \nINCLUSIONS:\n✅ Round Trip Van\n✅ Registration Fee\n✅ Environmental Fee\n✅ Local Tour guide\n✅ Event Coordinator\n✅ Event Bag tag \nEXCLUSIONS\n❌ Shower\n❌ Food \nTOUR HIGHLIGHTS:\n○ Farmlands\n○ Views of bakun mountains\n○ 360° view summit\n○ Mossy forest\n○ Tekip Falls \n  \n \n  \nOpen for solo or group joiners. Also available for exclusive tour at your prefer schedule. \nFor full details and the itinerary\, send us a message on our official Facebook page\, Tanaw Explorer\, or email us at info@tanawexplorer.com. \n  \nView Calendar
URL:https://www.tanawexplorer.com/event/mt-lubo-mt-patullok-oct-12-2025/
LOCATION:Mt Patullok\, Poblacion\, Bakun\, Benguet\, Philippines
CATEGORIES:Daytour,Falls,Hiking
ATTACH;FMTTYPE=image/jpeg:https://www.tanawexplorer.com/wp-content/uploads/2025/07/Tekip-Falls-2.jpg
ORGANIZER;CN="Tanaw Explorer":MAILTO:info@tanawexplorer.com
END:VEVENT
END:VCALENDAR