BEGIN:VCALENDAR
VERSION:2.0
PRODID:-//Tanaw Explorer - ECPv6.15.20//NONSGML v1.0//EN
CALSCALE:GREGORIAN
METHOD:PUBLISH
X-WR-CALNAME:Tanaw Explorer
X-ORIGINAL-URL:https://www.tanawexplorer.com
X-WR-CALDESC:Events for Tanaw Explorer
REFRESH-INTERVAL;VALUE=DURATION:PT1H
X-Robots-Tag:noindex
X-PUBLISHED-TTL:PT1H
BEGIN:VTIMEZONE
TZID:UTC
BEGIN:STANDARD
TZOFFSETFROM:+0000
TZOFFSETTO:+0000
TZNAME:UTC
DTSTART:20240101T000000
END:STANDARD
END:VTIMEZONE
BEGIN:VEVENT
DTSTART;TZID=UTC:20251101T000000
DTEND;TZID=UTC:20251102T235900
DTSTAMP:20260423T224054
CREATED:20251023T040345Z
LAST-MODIFIED:20251023T041257Z
UID:2199-1761955200-1762127940@www.tanawexplorer.com
SUMMARY:Mt Purgatory | November 1-2\, 2025
DESCRIPTION:⛰ PURGATORY 2D1N\n↗ 1705masl 🇵🇭 Bokod Benguet📍 Difficulty: 6/9 \n🌟 Event Fee: Php 4\,299/pax\n✅ Required Down payment: Php 1\,000/pax\n🚐 Minimum of 11-14pax per Van \nINCLUSIONS:\n✅ Round Trip Van\n✅ Registration Fee\n✅ Environmental Fee\n✅ Permit\n✅ Local Tour guide\n✅ Event Coordinator\n✅ Event Bag tags\n✅ 2 Hosted Meal (Dinner\, Brunch) \nEXCLUSIONS\n❌ Shower \nTOUR HIGHLIGHTS:\n○ Mt Mangagew\n○ Mt Pack\n○ Mt Purgatory\n○ Mt Bakian\n○ Mt Tangbaw\n○ Mt Komkompol\n○ Camping \n  \nOpen for solo or group joiners. Also available for exclusive tour at your prefer schedule. \nFor full details and the itinerary\, send us a message on our official Facebook page\, Tanaw Explorer\, or email us at info@tanawexplorer.com. \n  \nView Calendar
URL:https://www.tanawexplorer.com/event/mt-purgatory-november-1-2-2025/
LOCATION:Mt Kabunian\, Poblacion\, Bakun\, Benguet\, Philippines
CATEGORIES:Falls,Hiking
ATTACH;FMTTYPE=image/png:https://www.tanawexplorer.com/wp-content/uploads/2025/10/Mt-Purgatory.png
ORGANIZER;CN="Tanaw Explorer":MAILTO:info@tanawexplorer.com
END:VEVENT
BEGIN:VEVENT
DTSTART;VALUE=DATE:20251122
DTEND;VALUE=DATE:20251123
DTSTAMP:20260423T224054
CREATED:20240624T061326Z
LAST-MODIFIED:20251023T035908Z
UID:443-1763769600-1763855999@www.tanawexplorer.com
SUMMARY:Aw-Asen Falls | November 22\, 2025
DESCRIPTION:💦 AW-ASEN FALLS X KANKANTUBAN ECO-PARK\n🇵🇭 Ilocos Sur 📍 Difficulty: 2/9 \n🌟 Event Fee: Php 2\,300/pax\n✅ Required Down payment: Php 1000/pax\n🚐 Minimum of 11-14pax per Van \nINCLUSIONS:\n✅ Round Trip Van\n✅ Monster Jeep\n✅ Toll Fees\n✅ Registration Fee\n✅ Environmental Fee\n✅ Local Tour guide\n✅ Event Coordinator\n✅ Event Bag tags \nEXCLUSIONS\n❌ Foods \nTOUR HIGHLIGHTS:\n○ Aw-Asen Falls\n○ Ragsak Falls\n○ Ilocos Sur Arc\n○ Skyline San Emillio\n○ Kankantuban Eco-Park \n  \n \n  \nOpen for solo or group joiners. Also available for exclusive tour at your prefer schedule. \nFor full details and the itinerary\, send us a message on our official Facebook page\, Tanaw Explorer\, or email us at info@tanawexplorer.com. \n  \nView Calendar
URL:https://www.tanawexplorer.com/event/aw-asen-falls-november-22-2025/
LOCATION:Aw-Asen Falls\, Sta Rosario\, Sigay\, Sigay\, Philippines
CATEGORIES:Daytour,Falls
ATTACH;FMTTYPE=image/jpeg:https://www.tanawexplorer.com/wp-content/uploads/2024/06/Aw-Asen-Falls.jpg
ORGANIZER;CN="Tanaw Explorer":MAILTO:info@tanawexplorer.com
END:VEVENT
BEGIN:VEVENT
DTSTART;VALUE=DATE:20251129
DTEND;VALUE=DATE:20251130
DTSTAMP:20260423T224054
CREATED:20240927T095135Z
LAST-MODIFIED:20251119T051541Z
UID:1211-1764374400-1764460799@www.tanawexplorer.com
SUMMARY:Mt Kulis (Beginner Friendly Hike) | November 29\, 2025
DESCRIPTION:⛰ MT KULIS + 8 DESTINATION\n↗ 620masl 🇵🇭 Tanay Rizal 📍 Difficulty: 3/9 \n🌟 Event Fee: Php 1\,300/pax\n✅ Required Down payment: Php 800/pax\n🚐 Minimum of 11-14pax per Van \nINCLUSIONS:\n✅ Round Trip Van\n✅ Registration Fee\n✅ Environmental Fee\n✅ Local Tour guide\n✅ Event Coordinator\n✅ Event Bag tags \nEXCLUSIONS\n❌ Foods\n❌ Shower\n❌ Monster Truck 4×4 (Optional) 50/head \nTOUR HIGHLIGHTS:\n○ Mt Kulis Summit (Bahay ni Cardo)\n○ Noah’s Arc\n○ Sambong Peak\n○ Rock Formation\n○ Hearts Peak\n○ Spider Web\n○ Hanging Bridge\n○ Lion House Falls\n○ Natural Pool \n  \n \n  \nOpen for solo or group joiners. Also available for exclusive tour at your prefer schedule. \nFor full details and the itinerary\, send us a message on our official Facebook page\, Tanaw Explorer\, or email us at info@tanawexplorer.com. \n  \nView Calendar
URL:https://www.tanawexplorer.com/event/mt-kulis-beginner-friendly-hike-november-29-2025/
LOCATION:Mariveles
CATEGORIES:Daytour,Falls,Hiking
ATTACH;FMTTYPE=image/jpeg:https://www.tanawexplorer.com/wp-content/uploads/2024/09/Mt-Kulis-Featured.jpg
END:VEVENT
BEGIN:VEVENT
DTSTART;VALUE=DATE:20251130
DTEND;VALUE=DATE:20251201
DTSTAMP:20260423T224054
CREATED:20240714T053428Z
LAST-MODIFIED:20251110T101301Z
UID:974-1764460800-1764547199@www.tanawexplorer.com
SUMMARY:Mt Patullok x Tekip Falls | Nov 30\, 2025
DESCRIPTION:⛰ MT PATULLOK/MT LUBO x TEKIP FALLS\n↗ 2087masl 🇵🇭 Bakun Benguet📍 Difficulty: 3/9 \n🌟 Event Fee: Php 2\,500/pax\n✅ Required Down payment: Php 1\,000/pax\n🚐 Minimum of 11-14pax per Van \nINCLUSIONS:\n✅ Round Trip Van\n✅ Registration Fee\n✅ Environmental Fee\n✅ Local Tour guide\n✅ Event Coordinator\n✅ Event Bag tag \nEXCLUSIONS\n❌ Shower\n❌ Food \nTOUR HIGHLIGHTS:\n○ Farmlands\n○ Views of bakun mountains\n○ 360° view summit\n○ Mossy forest\n○ Tekip Falls \n  \n \n  \nOpen for solo or group joiners. Also available for exclusive tour at your prefer schedule. \nFor full details and the itinerary\, send us a message on our official Facebook page\, Tanaw Explorer\, or email us at info@tanawexplorer.com. \n  \nView Calendar
URL:https://www.tanawexplorer.com/event/mt-lubo-mt-patullok-tekip-falls-nov-30-2025/
LOCATION:Mt Patullok\, Poblacion\, Bakun\, Benguet\, Philippines
CATEGORIES:Daytour,Falls,Hiking
ATTACH;FMTTYPE=image/jpeg:https://www.tanawexplorer.com/wp-content/uploads/2024/07/Tekip-Falls.jpg
ORGANIZER;CN="Tanaw Explorer":MAILTO:info@tanawexplorer.com
END:VEVENT
END:VCALENDAR