BEGIN:VCALENDAR
VERSION:2.0
PRODID:-//Tanaw Explorer - ECPv6.15.20//NONSGML v1.0//EN
CALSCALE:GREGORIAN
METHOD:PUBLISH
X-ORIGINAL-URL:https://www.tanawexplorer.com
X-WR-CALDESC:Events for Tanaw Explorer
REFRESH-INTERVAL;VALUE=DURATION:PT1H
X-Robots-Tag:noindex
X-PUBLISHED-TTL:PT1H
BEGIN:VTIMEZONE
TZID:UTC
BEGIN:STANDARD
TZOFFSETFROM:+0000
TZOFFSETTO:+0000
TZNAME:UTC
DTSTART:20240101T000000
END:STANDARD
END:VTIMEZONE
BEGIN:VEVENT
DTSTART;VALUE=DATE:20251206
DTEND;VALUE=DATE:20251207
DTSTAMP:20260423T224237
CREATED:20240806T024533Z
LAST-MODIFIED:20251116T181816Z
UID:1057-1764979200-1765065599@www.tanawexplorer.com
SUMMARY:Mt Kapigpiglatan x Veto Falls | December 6\, 2025
DESCRIPTION:⛰ MT KAPIGPIGLATAN + VETO FALLS\n↗ 678masl 🇵🇭 san Narciso\, Zambales 📍 Difficulty: 3/9 \n🌟 Event Fee: Php 1\,500/pax\n✅ Required Down payment: Php 800/pax\n🚐 Minimum of 11-14pax per Van \nINCLUSIONS:\n✅ Round Trip Van\n✅ Registration Fee\n✅ Local Tour guide\n✅ Event Coordinator\n✅ Event Bag tags \nEXCLUSIONS\n❌ Shower\n❌ Food \nTOUR HIGHLIGHTS:\n○ Summit\n○ Bird Nest\n○ Bukidnon vibes\n○ Veto Falls \n  \n \n  \nOpen for solo or group joiners. Also available for exclusive tour at your prefer schedule. \nFor full details and the itinerary\, send us a message on our official Facebook page\, Tanaw Explorer\, or email us at info@tanawexplorer.com. \n  \nView Calendar
URL:https://www.tanawexplorer.com/event/mt-kapigpiglatan-x-veto-falls-december-6-2025/
LOCATION:Mt Kapigpiglatan\, San Narciso\, Zambales\, Philippines
CATEGORIES:Daytour,Falls,Hiking
ATTACH;FMTTYPE=image/jpeg:https://www.tanawexplorer.com/wp-content/uploads/2024/08/Mt-Kapigpiglatan-2.jpg
ORGANIZER;CN="Tanaw Explorer":MAILTO:info@tanawexplorer.com
END:VEVENT
END:VCALENDAR