BEGIN:VCALENDAR
VERSION:2.0
PRODID:-//Tanaw Explorer - ECPv6.15.20//NONSGML v1.0//EN
CALSCALE:GREGORIAN
METHOD:PUBLISH
X-WR-CALNAME:Tanaw Explorer
X-ORIGINAL-URL:https://www.tanawexplorer.com
X-WR-CALDESC:Events for Tanaw Explorer
REFRESH-INTERVAL;VALUE=DURATION:PT1H
X-Robots-Tag:noindex
X-PUBLISHED-TTL:PT1H
BEGIN:VTIMEZONE
TZID:UTC
BEGIN:STANDARD
TZOFFSETFROM:+0000
TZOFFSETTO:+0000
TZNAME:UTC
DTSTART:20240101T000000
END:STANDARD
END:VTIMEZONE
BEGIN:VEVENT
DTSTART;VALUE=DATE:20251214
DTEND;VALUE=DATE:20251215
DTSTAMP:20260423T224216
CREATED:20251203T050118Z
LAST-MODIFIED:20251203T050145Z
UID:2427-1765670400-1765756799@www.tanawexplorer.com
SUMMARY:Cabangan Hexa | December 14\, 2025
DESCRIPTION:CABANGAN HEXA\n⛰️Mt. Tabulhik\n⛰️Mt. Matulipok\n⛰️Mt. Capbhukan\n⛰️Mt. Naparel\n⛰️Mt. Bubungan\n⛰️Mt. Susundalaga\n↗ 700-1050 masl 🇵🇭 Cabangan Zambales 📍 Difficulty: 7/9 \n🌟 Event Fee: Php 2\,000/pax\n✅ Required Down payment: Php 1000/pax\n🚐 Minimum of 11-14pax per Van \nINCLUSIONS:\n✅ Round Trip Van\n✅ Toll Fee\n✅ Registration Fee\n✅ Environmental Fee\n✅ Local Tour guide\n✅ Event Coordinator\n✅ Event Bag tags \nEXCLUSIONS\n❌ Foods\n❌ Shower \nTOUR HIGHLIGHTS:\n○ Mt. Tabulhik\n○ Mt. Matulipok\n○ Mt. Capbhukan\n○ Mt. Naparel\n○ Mt. Bubungan\n○ Mt. Susundalaga \nOpen for solo or group joiners. Also available for exclusive tour at your prefer schedule. \nFor full details and the itinerary\, send us a message on our official Facebook page\, Tanaw Explorer\, or email us at info@tanawexplorer.com. \n  \nView Calendar
URL:https://www.tanawexplorer.com/event/cabangan-hexa-december-14-2025/
LOCATION:Cawag Hexa\, Subic\, Zambales\, Philippines
CATEGORIES:Daytour,Falls,Hiking
ATTACH;FMTTYPE=image/jpeg:https://www.tanawexplorer.com/wp-content/uploads/2025/12/Mt-Susundalaga.jpg
ORGANIZER;CN="Tanaw Explorer":MAILTO:info@tanawexplorer.com
END:VEVENT
END:VCALENDAR