BEGIN:VCALENDAR
VERSION:2.0
PRODID:-//Tanaw Explorer - ECPv6.15.20//NONSGML v1.0//EN
CALSCALE:GREGORIAN
METHOD:PUBLISH
X-ORIGINAL-URL:https://www.tanawexplorer.com
X-WR-CALDESC:Events for Tanaw Explorer
REFRESH-INTERVAL;VALUE=DURATION:PT1H
X-Robots-Tag:noindex
X-PUBLISHED-TTL:PT1H
BEGIN:VTIMEZONE
TZID:UTC
BEGIN:STANDARD
TZOFFSETFROM:+0000
TZOFFSETTO:+0000
TZNAME:UTC
DTSTART:20250101T000000
END:STANDARD
END:VTIMEZONE
BEGIN:VEVENT
DTSTART;VALUE=DATE:20260308
DTEND;VALUE=DATE:20260309
DTSTAMP:20260423T183150
CREATED:20241008T010930Z
LAST-MODIFIED:20260314T131652Z
UID:1258-1772928000-1773014399@www.tanawexplorer.com
SUMMARY:Nagpatong Rock Formation & Tung-Tong Falls | March 8\, 2026
DESCRIPTION:⛰ NAGPATONG ROCK FORMATION x TUNG-TONG FALLS\n↗ 560masl 🇵🇭 Tanay Rizal 📍 Difficulty: 3/9 \n🌟 Event Fee: Php 1\,400/pax\n✅ Required Down payment: Php 800/pax\n🚐 Minimum of 10-14pax per Van \nINCLUSIONS:\n✅ Round Trip Van\n✅ Registration Fee\n✅ Environmental Fee\n✅ Local Tour guide\n✅ Event Coordinator\n✅ Event Bag tags \nEXCLUSIONS\n❌ Foods\n❌ Shower\n❌ Tricycle fee 20/head \nTOUR HIGHLIGHTS:\n○ Nagpatong Rock Formation\n○ Rappelling\n○ Mahogany Forest\n○ Tung-Tong Falls \n  \n \n  \nOpen for solo or group joiners. Also available for exclusive tour at your prefer schedule. \nFor full details and the itinerary\, send us a message on our official Facebook page\, Tanaw Explorer\, or email us at info@tanawexplorer.com. \n  \nView Calendar
URL:https://www.tanawexplorer.com/event/nagpatong-rock-tung-tong-falls-march-8-2026/
LOCATION:Nagpatong Rock Formation\, Tanay\, Tanay\, Philippines
CATEGORIES:Daytour,Hiking
ATTACH;FMTTYPE=image/jpeg:https://www.tanawexplorer.com/wp-content/uploads/2024/10/Nagpatong-Rock-5.jpg
ORGANIZER;CN="Tanaw Explorer":MAILTO:info@tanawexplorer.com
END:VEVENT
END:VCALENDAR